BEGIN:VCALENDAR
VERSION:2.0
PRODID:-//ChamberMaster//Event Calendar 2.0//EN
METHOD:PUBLISH
X-PUBLISHED-TTL:P3D
REFRESH-INTERVAL:P3D
CALSCALE:GREGORIAN
BEGIN:VEVENT
DTSTART:20091030T040000Z
DTEND:20091030T040000Z
X-MICROSOFT-CDO-ALLDAYEVENT:FALSE
SUMMARY:Eye Opener - October 2009
DESCRIPTION:Salisbury Woods \nEnjoy your morning coffee as you network in this brand new\nbeautiful model townhouse. Salisbury Woods is a 68 unit\ntownhouse community abutting the coastal marsh just over\nthe Rt1 bridge in Salisbury. Marketed by McLaughlin Group Real Estate\, LLC.Bring your business promotional materials and samples if appropriate.Free AdmissionRSVP requiredDirections: Rte 1 over the Gillis Bridge\,\nSalisbury Woods will be up on the right.
X-ALT-DESC;FMTTYPE=text/html:<DIV style="FONT-FAMILY: Arial"><P style="FONT-FAMILY: Arial"><FONT color=#ff0000 size=4><STRONG><FONT color=#489b20>Salisbury Woods <BR></FONT></STRONG></FONT></P><P style="FONT-FAMILY: Arial"><FONT size=4><FONT size=3>Enjoy your morning coffee as you network in&nbsp\;this brand new<BR>beautiful model townhouse. Salisbury Woods is a 68 unit<BR>townhouse community abutting the coastal marsh just over<BR>the Rt1 bridge in Salisbury. Marketed by McLaughlin Group Real Estate\, LLC.</FONT></FONT></P><P style="FONT-FAMILY: Arial"><FONT size=4><FONT size=3>Bring your business promotional materials and samples if appropriate.</FONT></FONT></P><P style="FONT-FAMILY: Arial"><P style="FONT-FAMILY: Arial"><FONT size=4></FONT></P><DIV style="FONT-FAMILY: Arial"><FONT size=4>Free Admission</FONT></DIV><DIV style="FONT-FAMILY: Arial"><FONT size=4>RSVP required</FONT></DIV><DIV style="FONT-FAMILY: Arial"><FONT size=4><FONT size=3>Directions: Rte 1 over the Gillis Bridge\,<BR>Salisbury Woods will be up on the right.</FONT><BR></DIV></FONT><P style="FONT-FAMILY: Arial"></P></DIV>
LOCATION:Salisbury Woods
UID:e.1189.1270
SEQUENCE:3
DTSTAMP:20260421T165549Z
URL:https://business.newburyportchamber.org/events/details/eye-opener-october-2009-10-30-2009-1270
END:VEVENT

END:VCALENDAR
