BEGIN:VCALENDAR
VERSION:2.0
PRODID:-//ChamberMaster//Event Calendar 2.0//EN
METHOD:PUBLISH
X-PUBLISHED-TTL:P3D
REFRESH-INTERVAL:P3D
CALSCALE:GREGORIAN
BEGIN:VEVENT
DTSTART:20091120T050000Z
DTEND:20091120T050000Z
X-MICROSOFT-CDO-ALLDAYEVENT:FALSE
SUMMARY:Eye Opener - November 2009
DESCRIPTION:Plum Island Coffee Roasters-\nAmesbury Location\n32R Water StreetEnjoy your morning coffee as you network in this funky coffee house.  Located over the river in downtown Amesbury they also feature live music and serve beer and wine.\n\nBring your business promotional materials and samples if appropriate.Free AdmissionRSVP required Directions: Elm Street towards downtown Amesbury\, left onto Water Street just before the rotary. You will see a Ticketmaster outlet store on left. Park in the nearby municipal lot adjacent to PI Coffee Roasters.
X-ALT-DESC;FMTTYPE=text/html:<DIV style="FONT-FAMILY: Arial"><P style="FONT-FAMILY: Arial"><FONT color=#ff0000><STRONG><FONT color=#489b20 size=4>Plum Island Coffee Roasters-<BR>Amesbury Location<BR>32R Water Street</FONT></STRONG></FONT></P><P style="FONT-FAMILY: Arial"><FONT size=4><FONT size=3>Enjoy your morning coffee as you network in&nbsp\;this funky coffee house.&nbsp\; Located over the river in downtown Amesbury they also feature live music and serve beer and wine.</FONT><BR></FONT><BR><FONT size=4>Bring your business promotional materials and samples if appropriate.</FONT></P><P style="FONT-FAMILY: Arial"><FONT size=4></FONT><P style="FONT-FAMILY: Arial"><FONT size=4></FONT></P><DIV style="FONT-FAMILY: Arial"><FONT size=4>Free Admission</FONT></DIV><DIV style="FONT-FAMILY: Arial"><FONT size=4>RSVP required</FONT></DIV><DIV style="FONT-FAMILY: Arial">&nbsp\;</DIV><DIV style="FONT-FAMILY: Arial"><FONT size=4><STRONG>Directions:</STRONG> Elm Street towards downtown Amesbury\, left onto Water Street just before the rotary. You will see a Ticketmaster outlet store on left. Park in the nearby municipal lot adjacent to PI Coffee Roasters.</FONT></DIV><P style="FONT-FAMILY: Arial"></P></DIV>
LOCATION:Plum Island Coffee Roasters
UID:e.1189.1274
SEQUENCE:3
DTSTAMP:20260421T152054Z
URL:https://business.newburyportchamber.org/events/details/eye-opener-november-2009-11-20-2009-1274
END:VEVENT

END:VCALENDAR
