BEGIN:VCALENDAR
VERSION:2.0
PRODID:-//ChamberMaster//Event Calendar 2.0//EN
METHOD:PUBLISH
X-PUBLISHED-TTL:P3D
REFRESH-INTERVAL:P3D
CALSCALE:GREGORIAN
BEGIN:VEVENT
DTSTART:20110318T040000Z
DTEND:20110318T040000Z
X-MICROSOFT-CDO-ALLDAYEVENT:FALSE
SUMMARY:Eye Opener - Newbury Town Library
DESCRIPTION:Hosted by Newbury Town LibraryEnjoy your morning coffee as you network at this bright and cheery library. Bring your business promotional materials and samples if appropriate.Free AdmissionRSVP Required
X-ALT-DESC;FMTTYPE=text/html:<DIV style="FONT-FAMILY: Arial"><FONT color=#ff0000 size=4><FONT color=#489b20><FONT color=#0000ff><P style="FONT-FAMILY: Arial"><FONT color=#000000><STRONG>Hosted by Newbury Town Library</STRONG></FONT></P><P style="FONT-FAMILY: Arial"><FONT color=#000000>Enjoy your morning&nbsp\;coffee as you network at this bright and cheery library. Bring your business&nbsp\;promotional materials and samples if appropriate.</FONT></P><P style="FONT-FAMILY: Arial"><FONT color=#000000></FONT><P style="FONT-FAMILY: Arial"><FONT color=#000000 size=4></FONT></P><DIV style="FONT-FAMILY: Arial"><FONT color=#000000>Free Admission</FONT></DIV><DIV style="FONT-FAMILY: Arial"><FONT color=#000000>RSVP Required</FONT></DIV><DIV style="FONT-FAMILY: Arial"></FONT></FONT></FONT><FONT size=4>&nbsp\;</DIV></FONT><P style="FONT-FAMILY: Arial"></P></DIV>
LOCATION:Newbury Town Library
UID:e.1189.1769
SEQUENCE:3
DTSTAMP:20260420T073338Z
URL:https://business.newburyportchamber.org/events/details/eye-opener-newbury-town-library-03-18-2011-1769
END:VEVENT

END:VCALENDAR
