BEGIN:VCALENDAR
VERSION:2.0
PRODID:-//ChamberMaster//Event Calendar 2.0//EN
METHOD:PUBLISH
X-PUBLISHED-TTL:P3D
REFRESH-INTERVAL:P3D
CALSCALE:GREGORIAN
BEGIN:VEVENT
DTSTART:20090529T040000Z
DTEND:20090529T040000Z
X-MICROSOFT-CDO-ALLDAYEVENT:FALSE
SUMMARY:Eye Opener - May 2009
DESCRIPTION:Friday Morning Networking Eye Opener\n8:00 - 9:30amHosted by Simply Hair\n10 Prince Place\, downtown Newburyport\nTurn right off State Street\, after Taffy's Luncheonette and before the Public Library.Enjoy your morning coffee as you network in a casual environment.\nBring your business promotional materials and samples if appropriate.Free Admission
X-ALT-DESC;FMTTYPE=text/html:<P><STRONG>Friday Morning Networking Eye Opener<BR>8:00 - 9:30am</STRONG></P><P><STRONG><FONT color=#0000a0>Hosted by Simply Hair<BR>10 Prince Place\, downtown Newburyport<BR></FONT></STRONG><FONT color=#000000><EM>Turn right off State Street\, after Taffy's Luncheonette and before the Public Library.</EM></FONT></P><P>Enjoy your morning coffee as you network in a casual environment.<BR>Bring your business promotional materials and samples if appropriate.</P><P><STRONG>Free Admission</STRONG><BR></P>
LOCATION:Simply Hair
UID:e.1189.1159
SEQUENCE:3
DTSTAMP:20260422T023909Z
URL:https://business.newburyportchamber.org/events/details/eye-opener-may-2009-05-29-2009-1159
END:VEVENT

END:VCALENDAR
