BEGIN:VCALENDAR
VERSION:2.0
PRODID:-//ChamberMaster//Event Calendar 2.0//EN
METHOD:PUBLISH
X-PUBLISHED-TTL:P3D
REFRESH-INTERVAL:P3D
CALSCALE:GREGORIAN
BEGIN:VEVENT
DTSTART:20100326T040000Z
DTEND:20100326T040000Z
X-MICROSOFT-CDO-ALLDAYEVENT:FALSE
SUMMARY:Eye Opener - March 2010
DESCRIPTION:Hosted by:\nGreetings by the Dozen and Chococoa Baking Company\nat Greetings by the Dozen\n4A Winter Street\, NewburyportEnjoy your morning coffee as you network in this lovely stationary\nand gift store while enjoying whoopie pies and other delicious treats.\n\nBring your business promotional materials and samples if appropriate.Free AdmissionRSVP required
X-ALT-DESC;FMTTYPE=text/html:<DIV style="FONT-FAMILY: Arial"><P style="FONT-FAMILY: Arial"><FONT color=#ff0000 size=4><STRONG><FONT color=#489b20><FONT color=#0000ff>Hosted by:<BR></FONT><FONT color=#800000>Greetings by the Dozen and Chococoa Baking Company</FONT><BR></FONT></STRONG><FONT color=#000000 size=3>at Greetings by the Dozen<BR>4A Winter Street\, Newburyport</FONT></FONT></P><P style="FONT-FAMILY: Arial">Enjoy your morning coffee as you network in&nbsp\;this lovely stationary<BR>and gift store while enjoying whoopie pies and other delicious treats.<BR><BR>Bring your business&nbsp\;promotional materials and samples if appropriate.</P><P style="FONT-FAMILY: Arial"><P style="FONT-FAMILY: Arial"><FONT size=4></FONT></P><DIV style="FONT-FAMILY: Arial">Free Admission</DIV><DIV style="FONT-FAMILY: Arial"><FONT size=4><FONT size=3>RSVP required</FONT><BR></DIV></FONT><P style="FONT-FAMILY: Arial"></P></DIV>
LOCATION:Greetings by the Dozen
UID:e.1189.1318
SEQUENCE:3
DTSTAMP:20260421T085337Z
URL:https://business.newburyportchamber.org/events/details/eye-opener-march-2010-03-26-2010-1318
END:VEVENT

END:VCALENDAR
