BEGIN:VCALENDAR
VERSION:2.0
PRODID:-//ChamberMaster//Event Calendar 2.0//EN
METHOD:PUBLISH
X-PUBLISHED-TTL:P3D
REFRESH-INTERVAL:P3D
CALSCALE:GREGORIAN
BEGIN:VEVENT
DTSTART:20090327T040000Z
DTEND:20090327T040000Z
X-MICROSOFT-CDO-ALLDAYEVENT:FALSE
SUMMARY:Eye Opener - March 2009
DESCRIPTION:Residences at Riverwalk\nOne River CourtEnjoy your morning coffee as you network at Amesbury’s\nmost desirable apartment community\, Residences at\nRiverwalk!These historic mill building apartments offer large\nwindows with scenic beauty.Bring your business promotional materials and samples\nif appropriate.Free Admission\nRte 110\, turn right onto Elm Street at the new Sunoco\nGo approximately one mile and turn left onto Oak Street.\nOak Street becomes River Court.
X-ALT-DESC;FMTTYPE=text/html:<DIV style="FONT-FAMILY: Arial"><P style="FONT-FAMILY: Arial"><FONT size=4><FONT color=#0000ff size=3><STRONG>Residences at Riverwalk<BR>One River Court</STRONG></FONT></FONT></P><P style="FONT-FAMILY: Arial"><FONT size=4>Enjoy your morning coffee as you network&nbsp\;at Amesbury’s<BR>most desirable apartment community\, <SPAN class=text>Residences at<BR>Riverwalk!</SPAN></FONT></P><P style="FONT-FAMILY: Arial"><SPAN class=text><FONT size=4>These historic mill building apartments offer large<BR>windows with scenic beauty.</FONT></SPAN></P><P style="FONT-FAMILY: Arial"><SPAN class=text></SPAN><FONT size=4>Bring your business promotional materials and samples<BR>if appropriate.</FONT></P><P style="FONT-FAMILY: Arial"><P style="FONT-FAMILY: Arial"></P><DIV style="FONT-FAMILY: Arial"><STRONG>Free Admission</STRONG><BR></DIV><DIV style="FONT-FAMILY: Arial"><FONT size=4><FONT size=3>Rte 110\, turn right&nbsp\;onto Elm Street at the new Sunoco<BR>Go approximately one mile and turn left onto Oak Street.<BR>Oak Street becomes River Court.</FONT><BR></DIV></FONT><P style="FONT-FAMILY: Arial"></P></DIV>
LOCATION:Residences at Riverwalk
UID:e.1189.1157
SEQUENCE:3
DTSTAMP:20260422T041736Z
URL:https://business.newburyportchamber.org/events/details/eye-opener-march-2009-03-27-2009-1157
END:VEVENT

END:VCALENDAR
