BEGIN:VCALENDAR
VERSION:2.0
PRODID:-//ChamberMaster//Event Calendar 2.0//EN
METHOD:PUBLISH
X-PUBLISHED-TTL:P3D
REFRESH-INTERVAL:P3D
CALSCALE:GREGORIAN
BEGIN:VEVENT
DTSTART:20120224T130000Z
DTEND:20120224T143000Z
X-MICROSOFT-CDO-ALLDAYEVENT:FALSE
SUMMARY:Eye Opener - Maggie Sundae & Golosi Catering
DESCRIPTION:Networking Eye Opener\n\n\n\nJoin your fellow chamber members and enjoy your morning coffee in this casual setting as you network and make new business contacts.  Enjoy coffee and fresh baked muffins and scones at Maggie Sundae in downtown Amesbury.  Introduce yourself and your business to the group.\n\n\n\nOwner Adele Faso also owns Colosi Catering.  Taste food samplings!
X-ALT-DESC;FMTTYPE=text/html:<strong><span style="color: #0000cd">Networking Eye Opener</span></strong><br />\n<br />\nJoin your fellow chamber members and enjoy your morning coffee in this casual setting as you network and make new business contacts.&nbsp\; Enjoy coffee and fresh baked&nbsp\;muffins and scones at <strong>Maggie Sundae </strong>in downtown Amesbury.&nbsp\; Introduce yourself and your business to the group.<br />\n<br />\nOwner Adele Faso also owns <strong>Colosi Catering.</strong>&nbsp\; Taste food samplings! 
LOCATION:Maggie Sundae 60 Friend Street Downtown Amesbury\, MA
UID:e.1189.2415
SEQUENCE:3
DTSTAMP:20260419T125148Z
URL:https://business.newburyportchamber.org/events/details/eye-opener-maggie-sundae-golosi-catering-02-24-2012-2415
END:VEVENT

END:VCALENDAR
