BEGIN:VCALENDAR
VERSION:2.0
PRODID:-//ChamberMaster//Event Calendar 2.0//EN
METHOD:PUBLISH
X-PUBLISHED-TTL:P3D
REFRESH-INTERVAL:P3D
CALSCALE:GREGORIAN
BEGIN:VEVENT
DTSTART:20170224T123000Z
DTEND:20170224T140000Z
X-MICROSOFT-CDO-ALLDAYEVENT:FALSE
SUMMARY:Eye Opener - Liberty Tax Service
DESCRIPTION:Networking Eye Opener\n\n\nYou're invited to attend our Friday Eye Opener at the office of Liberty Tax Service and meet Travis Souther.\n\n\n\nEnjoy your morning coffee as you network in a casual setting and make some great contacts. Then go around the room and introduce yourself and your business to the group.\n\n\n\nBring your business promotional materials.
X-ALT-DESC;FMTTYPE=text/html:<div style="text-align: center\;"><span style="color: #006400"><strong>Networking Eye Opener</strong></span></div>\n<br />\nYou&#39\;re invited to attend our Friday Eye Opener at the office of <u><em><strong><a href="http://www.libertytax.com">Liberty Tax Service</a></strong></em></u> and meet Travis Souther.<br />\n<br />\nEnjoy your morning coffee as you network in a casual setting and make some great contacts. Then go around the room and introduce yourself and your business to the group.<br />\n<br />\nBring your business promotional materials.<br />\n<br />\n<span _fck_bookmark="1" style="display: none">&nbsp\;</span>
LOCATION:Liberty Tax Service 5 Water St Suite 5C Newburyport
UID:e.1189.34436
SEQUENCE:3
DTSTAMP:20260420T171249Z
URL:https://business.newburyportchamber.org/events/details/eye-opener-liberty-tax-service-34436
END:VEVENT

END:VCALENDAR
