BEGIN:VCALENDAR
VERSION:2.0
PRODID:-//ChamberMaster//Event Calendar 2.0//EN
METHOD:PUBLISH
X-PUBLISHED-TTL:P3D
REFRESH-INTERVAL:P3D
CALSCALE:GREGORIAN
BEGIN:VEVENT
DTSTART:20100625T040000Z
DTEND:20100625T040000Z
X-MICROSOFT-CDO-ALLDAYEVENT:FALSE
SUMMARY:Eye Opener - June 2010
DESCRIPTION:Hosted by:\nRiverside Cafe\n260 Merrimac Steet\, Towle Building\, NewburyportEnjoy your morning coffee as you network in this restaurant.\n\nBring your business promotional materials and samples if appropriate.Free AdmissionRSVP required
X-ALT-DESC;FMTTYPE=text/html:<DIV style="FONT-FAMILY: Arial"><P style="FONT-FAMILY: Arial"><FONT color=#ff0000 size=4><STRONG><FONT color=#489b20><FONT color=#0000ff>Hosted by:<BR></FONT><FONT color=#800000></FONT></FONT></STRONG></FONT><FONT color=#ff0000 size=4><STRONG><FONT color=#489b20><FONT color=#800000>Riverside Cafe</FONT><BR></FONT></STRONG><FONT color=#000000 size=3>260 Merrimac Steet\, Towle Building\, Newburyport</FONT></FONT></P><P style="FONT-FAMILY: Arial">Enjoy your morning coffee as you network in&nbsp\;this restaurant.<BR><BR>Bring your business&nbsp\;promotional materials and samples if appropriate.</P><P style="FONT-FAMILY: Arial"><P style="FONT-FAMILY: Arial"><FONT size=4></FONT></P><DIV style="FONT-FAMILY: Arial">Free Admission</DIV><DIV style="FONT-FAMILY: Arial"><FONT size=4><FONT size=3>RSVP required</FONT><BR></DIV></FONT><P style="FONT-FAMILY: Arial"></P></DIV>
LOCATION:Riverside Cafe
UID:e.1189.1334
SEQUENCE:3
DTSTAMP:20260421T032339Z
URL:https://business.newburyportchamber.org/events/details/eye-opener-june-2010-06-25-2010-1334
END:VEVENT

END:VCALENDAR
