BEGIN:VCALENDAR
VERSION:2.0
PRODID:-//ChamberMaster//Event Calendar 2.0//EN
METHOD:PUBLISH
X-PUBLISHED-TTL:P3D
REFRESH-INTERVAL:P3D
CALSCALE:GREGORIAN
BEGIN:VEVENT
DTSTART:20090626T040000Z
DTEND:20090626T040000Z
X-MICROSOFT-CDO-ALLDAYEVENT:FALSE
SUMMARY:Eye Opener - June 2009
DESCRIPTION:Friday Morning Networking Eye OpenerHosted by Inverness Financial Group\n21 Pleasant Street\, Ste 201\nDowntown NewburyportEnter through side door on Prince Place to the right of the library.You host Trey Byrnes invites you to mingle in a beautiful\nrenovated office space in a historic building.After over 20 years in the financial services industry\, Trey Byrnes opened Inverness Financial Group in Newburyport\, Massachusetts.  In this role\, Trey gets to engage in his two passions of actively managing investments for better performance and working with people to improve their lives.Enjoy your morning coffee as you network\nin a casual environment.\n\nBring your business promotional materials\nand samples if appropriate.Free Admission
X-ALT-DESC;FMTTYPE=text/html:<P><STRONG>Friday Morning Networking Eye Opener</STRONG></P><P><FONT size=2><STRONG><FONT color=#ff0000>Hosted by Inverness Financial Group<BR></FONT></STRONG></FONT><FONT size=2>21 Pleasant Street\, Ste 201<BR>Downtown Newburyport</FONT></P><P><EM>Enter through side door on Prince Place to the right of the library</EM>.</P><P>You host Trey Byrnes invites you to mingle in a beautiful<BR>renovated office space in a historic building.</P><P>After over 20 years in the financial services industry\, Trey Byrnes opened Inverness Financial Group in Newburyport\, Massachusetts.&nbsp\; In this role\, Trey gets to engage in his two passions of actively managing investments for better performance and working with people to improve their lives.</P><P>Enjoy your morning coffee as you network<BR>in a casual environment.<BR><BR>Bring your business promotional materials<BR>and samples if appropriate.</P><P><STRONG>Free Admission</STRONG><BR></P><STRONG><FONT color=#ff0000><P><STRONG><FONT color=#ff0000></FONT></STRONG>&nbsp\;</P></FONT></STRONG>
LOCATION:Inverness Financial Group
UID:e.1189.1185
SEQUENCE:3
DTSTAMP:20260421T231441Z
URL:https://business.newburyportchamber.org/events/details/eye-opener-june-2009-06-26-2009-1185
END:VEVENT

END:VCALENDAR
