BEGIN:VCALENDAR
VERSION:2.0
PRODID:-//ChamberMaster//Event Calendar 2.0//EN
METHOD:PUBLISH
X-PUBLISHED-TTL:P3D
REFRESH-INTERVAL:P3D
CALSCALE:GREGORIAN
BEGIN:VEVENT
DTSTART:20100129T050000Z
DTEND:20100129T050000Z
X-MICROSOFT-CDO-ALLDAYEVENT:FALSE
SUMMARY:Eye Opener - January 2010
DESCRIPTION:Sweethaven Studio\n25 Inn Street\, downtown NewburyportEnjoy your morning coffee as you network in this\nbeautiful new studio and art gallery.\n\nBring your business promotional materials and\nsamples if appropriate.Free Admisison\nRSVP required
X-ALT-DESC;FMTTYPE=text/html:<DIV style="FONT-FAMILY: Arial"><P style="FONT-FAMILY: Arial"><FONT color=#ff0000 size=4><FONT color=#489b20><FONT face="Century Gothic" color=#000000 size=3><FONT color=#008000><STRONG>Sweethaven Studio</STRONG></FONT><BR>25 Inn Street\, downtown Newburyport</FONT></FONT></FONT></P><P style="FONT-FAMILY: Arial"><FONT size=4><FONT face="Century Gothic">Enjoy your morning coffee as you network in this<BR>beautiful new studio and art gallery.</FONT><BR><BR><FONT face="Century Gothic">Bring your business promotional materials and<BR>samples if appropriate.</FONT></FONT></P><P style="FONT-FAMILY: Arial"><FONT size=4></FONT><P style="FONT-FAMILY: Arial"><FONT size=4></FONT></P><DIV style="FONT-FAMILY: Arial"><FONT face="Century Gothic" size=4>Free Admisison<BR>RSVP required</FONT><DIV style="FONT-FAMILY: Arial"><FONT size=4></DIV></FONT></DIV></DIV>
LOCATION:Sweethaven Studio
UID:e.1189.1311
SEQUENCE:3
DTSTAMP:20260421T114205Z
URL:https://business.newburyportchamber.org/events/details/eye-opener-january-2010-01-29-2010-1311
END:VEVENT

END:VCALENDAR
