BEGIN:VCALENDAR
VERSION:2.0
PRODID:-//ChamberMaster//Event Calendar 2.0//EN
METHOD:PUBLISH
X-PUBLISHED-TTL:P3D
REFRESH-INTERVAL:P3D
CALSCALE:GREGORIAN
BEGIN:VEVENT
DTSTART:20090130T050000Z
DTEND:20090130T050000Z
X-MICROSOFT-CDO-ALLDAYEVENT:FALSE
SUMMARY:Eye Opener - January 2009
DESCRIPTION:Veterinary Center of NewburyportEnjoy your morning coffee as you network in a casual environment. Bring your business promotional materials and samples if appropriate.Free Admission\nAttendance limited to 25
X-ALT-DESC;FMTTYPE=text/html:<DIV style="FONT-FAMILY: Arial"><DIV style="FONT-FAMILY: Arial"><P><FONT size=4><FONT color=#0000ff size=3><STRONG>Veterinary Center of Newburyport</STRONG></FONT></FONT></P><P><FONT size=4><FONT size=3><STRONG>Enjoy your morning coffee as you network&nbsp\;in a casual environment.&nbsp\;</STRONG></FONT></FONT></P><P><FONT size=4>Bring your business promotional materials and samples if appropriate.</FONT></P><P><P><FONT size=4></FONT></P><FONT size=4><STRONG>Free Admission</STRONG><BR>Attendance limited to 25<BR></FONT><P></P></DIV></DIV>
LOCATION:Veterinary Center of Greater Newburyport
UID:e.1189.1084
SEQUENCE:3
DTSTAMP:20260422T074659Z
URL:https://business.newburyportchamber.org/events/details/eye-opener-january-2009-01-30-2009-1084
END:VEVENT

END:VCALENDAR
