BEGIN:VCALENDAR
VERSION:2.0
PRODID:-//ChamberMaster//Event Calendar 2.0//EN
METHOD:PUBLISH
X-PUBLISHED-TTL:P3D
REFRESH-INTERVAL:P3D
CALSCALE:GREGORIAN
BEGIN:VEVENT
DTSTART:20111104T120000Z
DTEND:20111104T133000Z
X-MICROSOFT-CDO-ALLDAYEVENT:FALSE
SUMMARY:Eye Opener - Healthcare Complete
DESCRIPTION:Hosted by: Healthcare Complete\n	\n	\n		* NOTE - this was previously scheduled for 10/28 but was rescheduled to this date.\n\n		\n\n		Enjoy your morning coffee as you network in the relaxing offices of Dr. Jennah Dieter. Meet and mingle with fellow chamber members. Bring you business cards and brochures if appropriate.\n	\n		Free Admission\n\n		RSVP Required
X-ALT-DESC;FMTTYPE=text/html:<div style="font-family: arial">\n	<div style="font-family: arial">\n		<p style="font-family: arial">\n			<font color="#ff0000" size="4"><font color="#ff0000" size="4"><font color="#489b20"><font color="#0000ff"><strong>Hosted by: Healthcare Complete</strong></font></font></font></font></p>\n	</div>\n	<div style="font-family: arial">\n		<span style="font-size: 14px"><font color="#ff0000"><font color="#ff0000"><font color="#489b20"><font color="#0000ff"><font color="#000000"><strong><em>* NOTE - this was previously scheduled for 10/28 but was rescheduled to this date.</em></strong><br />\n		<br />\n		Enjoy your morning coffee as you network in the&nbsp\;relaxing </font></font></font></font></font></span><span style="font-size: 14px"><font color="#ff0000"><font color="#ff0000"><font color="#489b20"><font color="#0000ff"><font color="#000000">offices of Dr. Jennah Dieter. Meet and mingle with fellow </font></font></font></font></font></span><span style="font-size: 14px"><font color="#ff0000"><font color="#ff0000"><font color="#489b20"><font color="#0000ff"><font color="#000000">chamber members. Bring you business cards </font></font></font></font></font></span><span style="font-size: 14px"><font color="#ff0000"><font color="#ff0000"><font color="#489b20"><font color="#0000ff"><font color="#000000">and brochures if appropriate.</font></font></font></font></font></span></div>\n	<p style="font-family: arial">\n		<span style="font-size: 14px"><font color="#ff0000"><font color="#000000">Free Admission<br />\n		R</font></font></span><span style="font-size: 14px"><font color="#ff0000"><font color="#000000">SVP Required</font></font></span></p>\n	<p style="font-family: arial">\n		&nbsp\;</p>\n</div>\n
LOCATION:Healthcare Complete 260 Merrimac Street Towle Building\, East Lobby Colonial Wing
UID:e.1189.1623
SEQUENCE:3
DTSTAMP:20260419T174843Z
URL:https://business.newburyportchamber.org/events/details/eye-opener-healthcare-complete-11-04-2011-1623
END:VEVENT

END:VCALENDAR
