BEGIN:VCALENDAR
VERSION:2.0
PRODID:-//ChamberMaster//Event Calendar 2.0//EN
METHOD:PUBLISH
X-PUBLISHED-TTL:P3D
REFRESH-INTERVAL:P3D
CALSCALE:GREGORIAN
BEGIN:VEVENT
DTSTART:20110225T050000Z
DTEND:20110225T050000Z
X-MICROSOFT-CDO-ALLDAYEVENT:FALSE
SUMMARY:Eye Opener - Fitness Together
DESCRIPTION:Hosted by: Fitness TogetherEnjoy your morning coffee as you network in a casual environment. Celebrate Fitness Together's 3rd anniversary and 1st year anniversary of new manager Sean Stellmach. Bring your business promotional materials and samples if appropriate.Free AdmissionRSVP required
X-ALT-DESC;FMTTYPE=text/html:<DIV style="FONT-FAMILY: Arial"><P style="FONT-FAMILY: Arial"><FONT color=#0080c0><FONT size=4><STRONG>Hosted by: </STRONG></FONT><FONT size=4><STRONG>Fitness Together</STRONG></FONT></FONT></P><P style="FONT-FAMILY: Arial"><FONT size=4>Enjoy your morning coffee as you network in a casual environment. </FONT></P><P style="FONT-FAMILY: Arial"><FONT size=4>Celebrate Fitness Together's&nbsp\;3rd anniversary and 1st year anniversary of new manager Sean Stellmach. Bring your business&nbsp\;promotional materials and samples if appropriate.</FONT></P><P style="FONT-FAMILY: Arial"><FONT size=4></FONT><P style="FONT-FAMILY: Arial"><FONT size=4></FONT></P><DIV style="FONT-FAMILY: Arial"><FONT size=4>Free Admission</FONT></DIV><DIV style="FONT-FAMILY: Arial"><FONT size=4>RSVP required<BR></FONT></DIV><P style="FONT-FAMILY: Arial"></P></DIV>
LOCATION:Fitness Together
UID:e.1189.1612
SEQUENCE:3
DTSTAMP:20260420T092735Z
URL:https://business.newburyportchamber.org/events/details/eye-opener-fitness-together-02-25-2011-1612
END:VEVENT

END:VCALENDAR
