BEGIN:VCALENDAR
VERSION:2.0
PRODID:-//ChamberMaster//Event Calendar 2.0//EN
METHOD:PUBLISH
X-PUBLISHED-TTL:P3D
REFRESH-INTERVAL:P3D
CALSCALE:GREGORIAN
BEGIN:VEVENT
DTSTART:20100226T050000Z
DTEND:20100226T050000Z
X-MICROSOFT-CDO-ALLDAYEVENT:FALSE
SUMMARY:Eye Opener - February 2010
DESCRIPTION:Keller Therapeutics\n166 Water Street\, Newburyport\n\nNOTE: Located in the Meridian Body Therapies building\, corner of Water and Bromfield  Enjoy your morning coffee as you network in a casual setting.\n\nBring your business promotional materials and samples if appropriate.Free AdmissionRSVP required
X-ALT-DESC;FMTTYPE=text/html:<DIV style="FONT-FAMILY: Arial"><P style="FONT-FAMILY: Arial"><FONT color=#ff0000 size=4><STRONG><FONT color=#489b20><FONT color=#0000ff>Keller Therapeutics</FONT><BR></FONT></STRONG><FONT color=#000000 size=3>166 Water Street\, Newburyport<BR></FONT></FONT><FONT color=#ff0000 size=4><FONT color=#000000 size=3><BR><SPAN style="FONT-FAMILY: Arial\; COLOR: blue\; FONT-SIZE: 10pt"><FONT color=#ff0000 size=3><STRONG>NOTE: Located in the Meridian Body Therapies building\, corner of Water and Bromfield</STRONG></FONT>&nbsp\; </SPAN></FONT></FONT></P><P style="FONT-FAMILY: Arial">Enjoy your morning coffee as you network in a casual setting.<BR><BR>Bring your business&nbsp\;promotional materials and samples if appropriate.</P><P style="FONT-FAMILY: Arial"><P style="FONT-FAMILY: Arial"><FONT size=4></FONT></P><DIV style="FONT-FAMILY: Arial">Free Admission</DIV><DIV style="FONT-FAMILY: Arial"><FONT size=4><FONT size=3>RSVP required</FONT><BR></DIV></FONT><P style="FONT-FAMILY: Arial"></P></DIV>
LOCATION:Keller Therapeutics
UID:e.1189.1312
SEQUENCE:3
DTSTAMP:20260421T114359Z
URL:https://business.newburyportchamber.org/events/details/eye-opener-february-2010-02-26-2010-1312
END:VEVENT

END:VCALENDAR
