BEGIN:VCALENDAR
VERSION:2.0
PRODID:-//ChamberMaster//Event Calendar 2.0//EN
METHOD:PUBLISH
X-PUBLISHED-TTL:P3D
REFRESH-INTERVAL:P3D
CALSCALE:GREGORIAN
BEGIN:VEVENT
DTSTART:20090227T050000Z
DTEND:20090227T050000Z
X-MICROSOFT-CDO-ALLDAYEVENT:FALSE
SUMMARY:Eye Opener - February 2009
DESCRIPTION:Friday Morning Networking Eye OpenerHosed by Jewett Farms\n58 Merrimac Street\, Unit 1  Jewett Farms designs and builds some of the finest cabinetry\nand furniture pieces in the northeast. Enjoy your morning coffee as you network\nin a casual environment.\n\nBring your business promotional materials\nand samples if appropriate.Free Admission
X-ALT-DESC;FMTTYPE=text/html:<P><STRONG>Friday Morning Networking Eye Opener</STRONG></P><P><FONT size=2><STRONG><FONT color=#ff0000>Hosed by Jewett Farms<BR></FONT></STRONG>58 Merrimac Street\, Unit 1&nbsp\;&nbsp\;</FONT></P><P><FONT size=2>Jewett Farms&nbsp\;designs and builds some of the finest cabinetry<BR>and furniture pieces in the northeast.&nbsp\;</FONT></P><P><FONT size=2>Enjoy your morning coffee as you network<BR>in a casual environment.<BR><BR>Bring your business promotional materials<BR>and samples if appropriate.</FONT></P><P><STRONG><FONT size=2>Free Admission</FONT></STRONG><BR></P><STRONG><FONT color=#ff0000><P><STRONG><FONT color=#ff0000></FONT></STRONG>&nbsp\;</P></FONT></STRONG>
LOCATION:Jewett Farms
UID:e.1189.1111
SEQUENCE:3
DTSTAMP:20260422T061026Z
URL:https://business.newburyportchamber.org/events/details/eye-opener-february-2009-02-27-2009-1111
END:VEVENT

END:VCALENDAR
