BEGIN:VCALENDAR
VERSION:2.0
PRODID:-//ChamberMaster//Event Calendar 2.0//EN
METHOD:PUBLISH
X-PUBLISHED-TTL:P3D
REFRESH-INTERVAL:P3D
CALSCALE:GREGORIAN
BEGIN:VEVENT
DTSTART:20110325T040000Z
DTEND:20110325T040000Z
X-MICROSOFT-CDO-ALLDAYEVENT:FALSE
SUMMARY:Eye Opener - Exclusively for Special Events Related Members
DESCRIPTION:Eye Opener Exclusively for Special Events Related Members\nCarry Out Cafe\n155 State Steet\, NewburyportThis meeting is exclusively for those members who provide services associated with special events. This would include florists\, caterers\, photographers\, printers\, function rooms\, salons\, musicians\, etc... Enjoy your morning coffee and pastries as you network in this great eat-in or take-out restaurant. Enjoy the art displayed by local artists.\n\nBring your business promotional materials and samples if appropriate.Free AdmissionRSVP required
X-ALT-DESC;FMTTYPE=text/html:<DIV style="FONT-FAMILY: Arial"><FONT color=#ff0000 size=4><STRONG><FONT color=#489b20><FONT color=#0000ff><P style="FONT-FAMILY: Arial"><FONT color=#ff0000 size=4><FONT color=#489b20><STRONG><FONT color=#0000ff><FONT color=#ff0080>Eye Opener Exclusively for Special Events Related Members</FONT><BR></FONT><FONT color=#800000></FONT></STRONG></FONT></FONT><FONT color=#ff0000 size=4><FONT color=#000000>Carry Out Cafe<BR></FONT><FONT color=#000000 size=3>155 State&nbsp\;Steet\, Newburyport</FONT></FONT></P><P style="FONT-FAMILY: Arial">This meeting is exclusively for those members who provide services associated&nbsp\;with&nbsp\;special events. This would include florists\, caterers\, photographers\, printers\, function rooms\, salons\, musicians\, etc... </P><P style="FONT-FAMILY: Arial">Enjoy your morning coffee and pastries as you network in&nbsp\;this great&nbsp\;eat-in or take-out restaurant.&nbsp\;Enjoy the art displayed by local artists.<BR><BR>Bring your business&nbsp\;promotional materials and samples if appropriate.</P><P style="FONT-FAMILY: Arial"><P style="FONT-FAMILY: Arial"><FONT size=4></FONT></P><DIV style="FONT-FAMILY: Arial">Free Admission</DIV><DIV style="FONT-FAMILY: Arial"><FONT size=4><FONT size=3>RSVP required</FONT></FONT></FONT></FONT></STRONG></FONT><FONT size=4><BR></DIV></FONT><P style="FONT-FAMILY: Arial"></P></DIV>
LOCATION:Carry Out Cafe
UID:e.1189.1598
SEQUENCE:3
DTSTAMP:20260420T073323Z
URL:https://business.newburyportchamber.org/events/details/eye-opener-exclusively-for-special-events-related-members-03-25-2011-1598
END:VEVENT

END:VCALENDAR
