BEGIN:VCALENDAR
VERSION:2.0
PRODID:-//ChamberMaster//Event Calendar 2.0//EN
METHOD:PUBLISH
X-PUBLISHED-TTL:P3D
REFRESH-INTERVAL:P3D
CALSCALE:GREGORIAN
BEGIN:VEVENT
DTSTART:20100924T040000Z
DTEND:20100924T040000Z
X-MICROSOFT-CDO-ALLDAYEVENT:FALSE
SUMMARY:Eye Opener - Eunice James Fitness Studio
DESCRIPTION:Hosted by:\nEunice James Fitness Studio\n31A Pleasant Street\, NewburyportEnjoy your morning coffee as you network in this fitness studio.\n\nBring your business promotional materials and samples if appropriate.Free AdmissionRSVP required
X-ALT-DESC;FMTTYPE=text/html:<DIV style="FONT-FAMILY: Arial"><P style="FONT-FAMILY: Arial"><FONT color=#ff0000 size=4><STRONG><FONT color=#489b20><FONT color=#0000ff>Hosted by:<BR></FONT><FONT color=#800000></FONT></FONT></STRONG></FONT><FONT color=#ff0000 size=4><STRONG><FONT color=#489b20><FONT color=#ff0000>Eunice James Fitness Studio</FONT><BR></FONT></STRONG><FONT color=#000000 size=3>31A Pleasant Street\, Newburyport</FONT></FONT></P><P style="FONT-FAMILY: Arial">Enjoy your morning coffee as you network in&nbsp\;this fitness studio.<BR><BR>Bring your business&nbsp\;promotional materials and samples if appropriate.</P><P style="FONT-FAMILY: Arial"><P style="FONT-FAMILY: Arial"><FONT size=4></FONT></P><DIV style="FONT-FAMILY: Arial">Free Admission</DIV><DIV style="FONT-FAMILY: Arial"><FONT size=4><FONT size=3>RSVP required</FONT><BR></DIV></FONT><P style="FONT-FAMILY: Arial"></P></DIV>
LOCATION:Eunice James Fitness Center
UID:e.1189.1532
SEQUENCE:3
DTSTAMP:20260420T194018Z
URL:https://business.newburyportchamber.org/events/details/eye-opener-eunice-james-fitness-studio-09-24-2010-1532
END:VEVENT

END:VCALENDAR
