BEGIN:VCALENDAR
VERSION:2.0
PRODID:-//ChamberMaster//Event Calendar 2.0//EN
METHOD:PUBLISH
X-PUBLISHED-TTL:P3D
REFRESH-INTERVAL:P3D
CALSCALE:GREGORIAN
BEGIN:VEVENT
DTSTART:20110930T120000Z
DTEND:20110930T133000Z
X-MICROSOFT-CDO-ALLDAYEVENT:FALSE
SUMMARY:Eye Opener - Edward Jones Investments
DESCRIPTION:Edward Jones Investments\n\n		\n\n		Enjoy your morning coffee as you network in this casual office space.\n\n		\n\n		Bring your business promotional materials and samples if appropriate.\n	\n		Free Admission\n\n		Registration Required
X-ALT-DESC;FMTTYPE=text/html:<div style="font-family: arial">\n	<p style="font-family: arial">\n		<span style="font-size: 14px"><font color="#008000"><strong>Edward Jones Investments</strong></font></span><br />\n		<br />\n		<span style="font-size: 12px"><font color="#000000">Enjoy your morning coffee as you network in&nbsp\;this casual office space.<br />\n		<br />\n		Bring your business&nbsp\;promotional materials and samples if appropriate.</font></span></p>\n	<p style="font-family: arial">\n		<span style="font-size: 12px"><strong>Free Admission<br />\n		Registration Required</strong></span></p>\n</div>\n
LOCATION:Edward Jones Investments The Tannery\, Water Street\, Mill #3\, Suite 322 Next door to Beach Plum\, 2nd Floor Downtown Newburyport
UID:e.1189.1622
SEQUENCE:3
DTSTAMP:20260419T211920Z
URL:https://business.newburyportchamber.org/events/details/eye-opener-edward-jones-investments-09-30-2011-1622
END:VEVENT

END:VCALENDAR
