BEGIN:VCALENDAR
VERSION:2.0
PRODID:-//ChamberMaster//Event Calendar 2.0//EN
METHOD:PUBLISH
X-PUBLISHED-TTL:P3D
REFRESH-INTERVAL:P3D
CALSCALE:GREGORIAN
BEGIN:VEVENT
DTSTART:20101029T040000Z
DTEND:20101029T040000Z
X-MICROSOFT-CDO-ALLDAYEVENT:FALSE
SUMMARY:Eye Opener - Edward Jones
DESCRIPTION:Hosted by:\nEdward Jones Investments\nThe Tannery\, Water Street\, Mill #3\, Suite 322\nNext door to Beach Plum\nDowntown NewburyportEnjoy your morning coffee as you network in this casual office space.\n\nBring your business promotional materials and samples if appropriate.Free AdmissionRSVP required
X-ALT-DESC;FMTTYPE=text/html:<DIV style="FONT-FAMILY: Arial"><P style="FONT-FAMILY: Arial"><FONT color=#ff0000 size=4><STRONG><FONT color=#489b20><FONT color=#0000ff>Hosted by:<BR></FONT><FONT color=#800000></FONT></FONT></STRONG></FONT><FONT color=#ff0000 size=4><STRONG><FONT color=#489b20><FONT color=#008000>Edward Jones Investments</FONT><BR></FONT></STRONG><FONT color=#000000 size=3>The Tannery\, Water Street\, Mill #3\, Suite 322<BR>Next door&nbsp\;to Beach Plum</FONT></FONT><FONT color=#ff0000 size=4><FONT color=#000000 size=3><BR>Downtown Newburyport</FONT></FONT></P><P style="FONT-FAMILY: Arial">Enjoy your morning coffee as you network in&nbsp\;this casual office space.<BR><BR>Bring your business&nbsp\;promotional materials and samples if appropriate.</P><P style="FONT-FAMILY: Arial"><P style="FONT-FAMILY: Arial"><FONT size=4></FONT></P><DIV style="FONT-FAMILY: Arial">Free Admission</DIV><DIV style="FONT-FAMILY: Arial"><FONT size=4><FONT size=3>RSVP required</FONT><BR></DIV></FONT><P style="FONT-FAMILY: Arial"></P></DIV>
LOCATION:Edward Jones Investments
UID:e.1189.1468
SEQUENCE:3
DTSTAMP:20260420T175427Z
URL:https://business.newburyportchamber.org/events/details/eye-opener-edward-jones-10-29-2010-1468
END:VEVENT

END:VCALENDAR
