BEGIN:VCALENDAR
VERSION:2.0
PRODID:-//ChamberMaster//Event Calendar 2.0//EN
METHOD:PUBLISH
X-PUBLISHED-TTL:P3D
REFRESH-INTERVAL:P3D
CALSCALE:GREGORIAN
BEGIN:VEVENT
DTSTART:20090731T040000Z
DTEND:20090731T040000Z
X-MICROSOFT-CDO-ALLDAYEVENT:FALSE
SUMMARY:Eye Opener - Brass Lyon
DESCRIPTION:Friday Morning Networking Eye Opener\n8:00 - 9:30amHosted by the Brass Lyon\nIn the heart of Market Square\, downtown NewburyportEnjoy your morning coffee as you network in a casual environment. Brass Lyon has fun and unique gifts. They feature Brass and Nautical items\, Weathervanes\, Weather and Tide Instruments and much more!\n\nBring your business promotional materials and samples if appropriate.Free Admission\nSpecial ship model raffle
X-ALT-DESC;FMTTYPE=text/html:<P><STRONG>Friday Morning Networking Eye Opener<BR>8:00 - 9:30am</STRONG></P><P><FONT color=#0000a0><FONT color=#804000><STRONG>Hosted by the Brass Lyon</STRONG></FONT><BR></FONT><FONT color=#804000><EM>In the heart of Market Square\, downtown Newburyport</EM></FONT></P><P>Enjoy your morning coffee as you network in a casual environment. Brass Lyon has fun and unique gifts. They feature Brass and Nautical items\, Weathervanes\, Weather and Tide Instruments and much more!<BR><BR>Bring your business promotional materials and samples if appropriate.</P><P><STRONG>Free Admission<BR>Special ship model raffle</STRONG><BR></P>
LOCATION:Brass Lyon
UID:e.1189.1220
SEQUENCE:3
DTSTAMP:20260421T214535Z
URL:https://business.newburyportchamber.org/events/details/eye-opener-brass-lyon-07-31-2009-1220
END:VEVENT

END:VCALENDAR
