BEGIN:VCALENDAR
VERSION:2.0
PRODID:-//ChamberMaster//Event Calendar 2.0//EN
METHOD:PUBLISH
X-PUBLISHED-TTL:P3D
REFRESH-INTERVAL:P3D
CALSCALE:GREGORIAN
BEGIN:VEVENT
DTSTART:20090828T040000Z
DTEND:20090828T040000Z
X-MICROSOFT-CDO-ALLDAYEVENT:FALSE
SUMMARY:Eye Opener - August 2009
DESCRIPTION:9th Wave Catamaran\n\nEnjoy your morning coffee on a summer morning as you network dockside on the\n9th Wave Catamaran.  Bring your business promotional materials and samples\nif appropriate.On the boardwalk next to the Black Cow.RSVP required\nFree Admission
X-ALT-DESC;FMTTYPE=text/html:<P><STRONG><FONT color=#0000ff size=4>9th Wave Catamaran</FONT></STRONG><BR><BR>Enjoy your morning coffee on a summer morning as you network dockside on the<BR>9th Wave Catamaran.&nbsp\; Bring your business promotional materials and samples<BR>if appropriate.</P><P>On the boardwalk next to the Black Cow.</P><P>RSVP required<BR>Free Admission</P>
LOCATION:9th Wave Catamaran
UID:e.1189.1265
SEQUENCE:3
DTSTAMP:20260421T201011Z
URL:https://business.newburyportchamber.org/events/details/eye-opener-august-2009-08-28-2009-1265
END:VEVENT

END:VCALENDAR
