BEGIN:VCALENDAR
VERSION:2.0
PRODID:-//ChamberMaster//Event Calendar 2.0//EN
METHOD:PUBLISH
X-PUBLISHED-TTL:P3D
REFRESH-INTERVAL:P3D
CALSCALE:GREGORIAN
BEGIN:VEVENT
DTSTART:20110128T050000Z
DTEND:20110128T050000Z
X-MICROSOFT-CDO-ALLDAYEVENT:FALSE
SUMMARY:Eye Opener - Amesbury Sports Park
DESCRIPTION:Hosted by:\nAmesbury Sports Park\n12 South Hunt Road\, AmesburyEnjoy your morning coffee as you network at this fun sports park that offers winter and summer tubing\, OGO rides and also a great function space. Bring your business promotional materials and samples if appropriate.Free AdmissionRSVP required
X-ALT-DESC;FMTTYPE=text/html:<DIV style="FONT-FAMILY: Arial"><P style="FONT-FAMILY: Arial"><FONT color=#ff0000 size=4><FONT color=#489b20><STRONG><FONT color=#0000ff>Hosted by:<BR></FONT><FONT color=#800000></FONT></STRONG></FONT></FONT><FONT color=#ff0000 size=4><FONT color=#489b20><STRONG><FONT color=#800000>Amesbury Sports Park</FONT><BR></STRONG></FONT><FONT color=#000000>12 South Hunt Road\, Amesbury</FONT></FONT></P><P style="FONT-FAMILY: Arial">Enjoy your morning coffee as you network at this fun sports park that offers winter and summer tubing\, OGO rides and also a great function space.&nbsp\;</P><P style="FONT-FAMILY: Arial">Bring your business&nbsp\;promotional materials and samples if appropriate.</P><P style="FONT-FAMILY: Arial"><P style="FONT-FAMILY: Arial"><FONT size=4></FONT></P><DIV style="FONT-FAMILY: Arial">Free Admission</DIV><DIV style="FONT-FAMILY: Arial"><FONT size=4><FONT size=3>RSVP required</FONT></FONT></DIV></DIV>
LOCATION:Amesbury Sports Park
UID:e.1189.1593
SEQUENCE:3
DTSTAMP:20260420T112443Z
URL:https://business.newburyportchamber.org/events/details/eye-opener-amesbury-sports-park-01-28-2011-1593
END:VEVENT

END:VCALENDAR
