BEGIN:VCALENDAR
VERSION:2.0
PRODID:-//ChamberMaster//Event Calendar 2.0//EN
METHOD:PUBLISH
X-PUBLISHED-TTL:P3D
REFRESH-INTERVAL:P3D
CALSCALE:GREGORIAN
BEGIN:VEVENT
DTSTART:20110429T040000Z
DTEND:20110429T040000Z
X-MICROSOFT-CDO-ALLDAYEVENT:FALSE
SUMMARY:Eye Opener - A Shore Thing
DESCRIPTION:Eye Opener - A Shore ThingEnjoy your morning coffee as you network in this pleasant funky store carrying redesigned furniture and accessories for you and your home including home decor and accessories\, artwork\, jewelry\, pottery and more! Make your home spaces flourish with fresh color and style!  Bring your business promotional materials and samples if appropriate.Free AdmissionRSVP required
X-ALT-DESC;FMTTYPE=text/html:<DIV style="FONT-FAMILY: Arial"><FONT color=#ff0000 size=4><FONT color=#489b20><FONT color=#0000ff><FONT color=#ff0000 size=4><FONT color=#489b20><FONT color=#0000ff><STRONG><FONT color=#00b9b9><P><STRONG><SPAN style="FONT-FAMILY: Calibri\; COLOR: #00b9b9\; FONT-SIZE: 14pt\; mso-bidi-font-family: Arial">Eye Opener - A Shore Thing</SPAN></STRONG><SPAN style="FONT-FAMILY: Calibri\; COLOR: blue\; FONT-SIZE: 14pt\; mso-bidi-font-family: Arial"><?xml:namespace prefix = o ns = "urn:schemas-microsoft-com:office:office" /><o:p></o:p></SPAN></P><P><STRONG><SPAN style="FONT-FAMILY: Calibri\; COLOR: #ff5353\; FONT-SIZE: 14pt\; mso-bidi-font-family: Arial">Enjoy your morning coffee as you network in this pleasant funky store carrying redesigned furniture and accessories for you and your home including&nbsp\;home decor and accessories\, artwork\, jewelry\, pottery and more! Make your home spaces flourish with fresh color and style!</SPAN></STRONG><STRONG><SPAN style="FONT-FAMILY: Calibri\; COLOR: #ff7575\; FONT-SIZE: 14pt\; mso-bidi-font-family: Arial">&nbsp\; </SPAN></STRONG><STRONG><SPAN style="FONT-FAMILY: Calibri\; COLOR: #00b9b9\; FONT-SIZE: 14pt"><o:p></o:p></SPAN></STRONG></P><P><B><SPAN style="FONT-FAMILY: Calibri\; COLOR: #00b9b9\; FONT-SIZE: 14pt\; mso-bidi-font-family: Arial">Bring your business&nbsp\;promotional materials and samples if appropriate.</SPAN></B><SPAN style="FONT-FAMILY: Calibri\; COLOR: blue\; FONT-SIZE: 14pt"><o:p></o:p></SPAN></P><P style="MARGIN: 0in 0in 0pt" class=MsoNormal><STRONG><SPAN style="FONT-FAMILY: Calibri\; COLOR: #00b9b9\; FONT-SIZE: 14pt\; mso-bidi-font-family: Arial">Free Admission</SPAN></STRONG><SPAN style="FONT-FAMILY: Calibri\; COLOR: blue\; FONT-SIZE: 14pt\; mso-bidi-font-family: Arial"><o:p></o:p></SPAN></P><P style="MARGIN: 0in 0in 0pt" class=MsoNormal><STRONG><SPAN style="FONT-FAMILY: Calibri\; COLOR: #00b9b9\; FONT-SIZE: 14pt\; mso-bidi-font-family: Arial">RSVP required</SPAN></STRONG><SPAN style="FONT-FAMILY: Calibri\; FONT-SIZE: 14pt\; mso-bidi-font-family: Arial"><o:p></o:p></SPAN></P><P style="FONT-FAMILY: Arial"></FONT></STRONG></FONT></FONT></FONT></FONT></FONT></FONT><FONT size=4><BR></P></FONT><P style="FONT-FAMILY: Arial"></P></DIV>
LOCATION:A Shore Thing
UID:e.1189.1618
SEQUENCE:3
DTSTAMP:20260420T072908Z
URL:https://business.newburyportchamber.org/events/details/eye-opener-a-shore-thing-04-29-2011-1618
END:VEVENT

END:VCALENDAR
