BEGIN:VCALENDAR
VERSION:2.0
PRODID:-//ChamberMaster//Event Calendar 2.0//EN
METHOD:PUBLISH
X-PUBLISHED-TTL:P3D
REFRESH-INTERVAL:P3D
CALSCALE:GREGORIAN
BEGIN:VEVENT
DTSTART:20110811T113000Z
DTEND:20110811T130000Z
X-MICROSOFT-CDO-ALLDAYEVENT:FALSE
SUMMARY:Executive Committee Meeting
DESCRIPTION:Monthly meeting of the Executive Committee. Email all RSVP's to Ann Ormond at aormond@newburyportchamber.org
X-ALT-DESC;FMTTYPE=text/html:<DIV style="FONT-FAMILY: Arial">Monthly meeting of the&nbsp\;Executive Committee.</DIV><DIV style="FONT-FAMILY: Arial">&nbsp\;</DIV><DIV style="FONT-FAMILY: Arial">Email all RSVP's to Ann Ormond at <A href="mailto:aormond@newburyportchamber.org">aormond@newburyportchamber.org</A></DIV>
LOCATION:Gtr. Newburyport Chamber of Commerce & Industry
UID:e.1189.1722
SEQUENCE:3
DTSTAMP:20260419T223523Z
URL:https://business.newburyportchamber.org/events/details/executive-committee-meeting-08-11-2011-1722
END:VEVENT

END:VCALENDAR
