BEGIN:VCALENDAR
VERSION:2.0
PRODID:-//ChamberMaster//Event Calendar 2.0//EN
METHOD:PUBLISH
X-PUBLISHED-TTL:P3D
REFRESH-INTERVAL:P3D
CALSCALE:GREGORIAN
BEGIN:VEVENT
DTSTART:20081113T050000Z
DTEND:20081113T050000Z
X-MICROSOFT-CDO-ALLDAYEVENT:FALSE
SUMMARY:Evolution 25/40 Committee Meeting - November
DESCRIPTION:Evolution 25/40  - Committee MeetingA networking and educational network for Young Professionals under 40 Committee MeetingThursday\, November 13th at 9am at the Chamber office RSVP to Patty St. John at pstjohn@newburyportchamber.org
X-ALT-DESC;FMTTYPE=text/html:<DIV style="FONT-FAMILY: Arial"><FONT color=#008000><STRONG>Evolution 25/40&nbsp\; - Committee Meeting</STRONG></FONT></DIV><DIV style="FONT-FAMILY: Arial"><FONT color=#008000><STRONG>A networking and educational network for Young Professionals under 40</STRONG></FONT></DIV><DIV style="FONT-FAMILY: Arial"><STRONG><FONT color=#008000></FONT></STRONG>&nbsp\;</DIV><DIV style="FONT-FAMILY: Arial">Committee Meeting</DIV><DIV style="FONT-FAMILY: Arial"><FONT color=#000000>Thursday\, November 13th at 9am at the Chamber office</FONT></DIV><DIV style="FONT-FAMILY: Arial">&nbsp\;</DIV><DIV style="FONT-FAMILY: Arial">RSVP to Patty St. John at <A href="mailto:pstjohn@newburyportchamber.org">pstjohn@newburyportchamber.org</A></DIV><DIV style="FONT-FAMILY: Arial">&nbsp\;</DIV><DIV style="FONT-FAMILY: Arial">&nbsp\;</DIV>
LOCATION:Chamber of Commerce
UID:e.1189.1088
SEQUENCE:3
DTSTAMP:20260422T111938Z
URL:https://business.newburyportchamber.org/events/details/evolution-25-40-committee-meeting-november-11-13-2008-1088
END:VEVENT

END:VCALENDAR
