BEGIN:VCALENDAR
VERSION:2.0
PRODID:-//ChamberMaster//Event Calendar 2.0//EN
METHOD:PUBLISH
X-PUBLISHED-TTL:P3D
REFRESH-INTERVAL:P3D
CALSCALE:GREGORIAN
BEGIN:VEVENT
DTSTART:20090616T040000Z
DTEND:20090616T040000Z
X-MICROSOFT-CDO-ALLDAYEVENT:FALSE
SUMMARY:Evolution 25/40 Committee Meeting - June
DESCRIPTION:Evolution 25/40 Committee Meeting Planning meeting of the young professionals group RSVP to Patty St. John at pstjohn@newburyportchamber.org
X-ALT-DESC;FMTTYPE=text/html:<DIV style="FONT-FAMILY: Arial">Evolution 25/40 Committee Meeting</DIV><DIV style="FONT-FAMILY: Arial">&nbsp\;</DIV><DIV style="FONT-FAMILY: Arial">Planning meeting of the young professionals group</DIV><DIV style="FONT-FAMILY: Arial">&nbsp\;</DIV><DIV style="FONT-FAMILY: Arial">RSVP to Patty St. John at <A href="mailto:pstjohn@newburyportchamber.org">pstjohn@newburyportchamber.org</A></DIV><DIV style="FONT-FAMILY: Arial">&nbsp\;</DIV><DIV style="FONT-FAMILY: Arial">&nbsp\;</DIV>
LOCATION:Gtr. Newburyport Chamber of Commerce & Industry
UID:e.1189.1201
SEQUENCE:3
DTSTAMP:20260421T231520Z
URL:https://business.newburyportchamber.org/events/details/evolution-25-40-committee-meeting-june-06-16-2009-1201
END:VEVENT

END:VCALENDAR
