BEGIN:VCALENDAR
VERSION:2.0
PRODID:-//ChamberMaster//Event Calendar 2.0//EN
METHOD:PUBLISH
X-PUBLISHED-TTL:P3D
REFRESH-INTERVAL:P3D
CALSCALE:GREGORIAN
BEGIN:VEVENT
DTSTART:20110920T220000Z
DTEND:20110921T000000Z
X-MICROSOFT-CDO-ALLDAYEVENT:FALSE
SUMMARY:Event for Plum Island Foundation
DESCRIPTION:Please attend our 4th annual fundraiser at the Plum Island Grille on Tuesday 9/20 from 6-8pm.  \n\nThe Plum Island Foundation is committed to protecting\, preserving and restoring Plum Island beach.\n\nTickets are available at www.plumislandfoundation.org or at the door.
X-ALT-DESC;FMTTYPE=text/html:&nbsp\;Please attend our 4th annual fundraiser at the Plum Island Grille on Tuesday 9/20 from 6-8pm. &nbsp\;<br />\nThe Plum Island Foundation is committed to protecting\, preserving and restoring Plum Island beach.<br />\nTickets are available at www.plumislandfoundation.org or at the door.<br />\n
LOCATION:Plum Island Grille
UID:e.1189.2205
SEQUENCE:3
DTSTAMP:20260419T225748Z
URL:https://business.newburyportchamber.org/events/details/event-for-plum-island-foundation-09-20-2011-2205
END:VEVENT

END:VCALENDAR
