BEGIN:VCALENDAR
VERSION:2.0
PRODID:-//ChamberMaster//Event Calendar 2.0//EN
METHOD:PUBLISH
X-PUBLISHED-TTL:P3D
REFRESH-INTERVAL:P3D
CALSCALE:GREGORIAN
BEGIN:VEVENT
DTSTART:20111116T130000Z
DTEND:20111116T153000Z
X-MICROSOFT-CDO-ALLDAYEVENT:FALSE
SUMMARY:Event at Newburyport Cleantech Center\, Inc.
DESCRIPTION:The Newburyport Cleantech Center Presents:\n\nGenerating Exceptional ROI Through Renewable Energy
X-ALT-DESC;FMTTYPE=text/html:<strong><span style="background-color: #fff0f5">The Newburyport Cleantech Center Presents</span><span style="background-color: #fff0f5">:</span><br />\nGenerating Exceptional ROI Through Renewable Energy</strong>
LOCATION:Newburyport Cleantech Center 10 Mulliken Way Newburyport
UID:e.1189.2371
SEQUENCE:3
DTSTAMP:20260419T174122Z
URL:https://business.newburyportchamber.org/events/details/event-at-newburyport-cleantech-center-inc-11-16-2011-2371
END:VEVENT

END:VCALENDAR
