BEGIN:VCALENDAR
VERSION:2.0
PRODID:-//ChamberMaster//Event Calendar 2.0//EN
METHOD:PUBLISH
X-PUBLISHED-TTL:P3D
REFRESH-INTERVAL:P3D
CALSCALE:GREGORIAN
BEGIN:VEVENT
DTSTART:20111019T120000Z
DTEND:20111019T150000Z
X-MICROSOFT-CDO-ALLDAYEVENT:FALSE
SUMMARY:Event at Newburyport Cleantech Center\, Inc.
DESCRIPTION:Energy Cost Savings Opportunities\n\n\n\nLearn more about our programs that deliver turnkey cost saving solutions that pay back quickly.\n\nWe do the work\, you get the benefit!\n\n\n\n\n\nUtility cost reduction topics will include:\n\n\n\n\n\n- Lighting Upgrades - Superior Energy and Control\, Inc.\n\n\n\n\n\n- Equipment Energy Optimization - Magniture\, Inc.\n\n\n\n\n\n- Water Conservation - Conservations Solutions\, Inc.\n\n\n\n\n\nDiscussions will include Utility Rebates and 0% interest Loan Programs\n\n\n\nFollowing the presentations\, participants can meet the speakers to discuss their specific needs and challenges.\n\n\n\n\n\nSpace is Limited\n\n\n\nPlease reserve your spot today.\n\nE-mail your RSVP today using the attached link\n\ninfo@newburyportcleantech.com
X-ALT-DESC;FMTTYPE=text/html:Energy Cost Savings Opportunities<br />\n<br />\nLearn more about our programs that deliver turnkey cost saving solutions that pay back quickly.<br />\nWe do the work\, you get the benefit!<br />\n<br />\n<br />\nUtility cost reduction topics will include:<br />\n<br />\n<br />\n- Lighting Upgrades - Superior Energy and Control\, Inc.<br />\n<br />\n<br />\n- Equipment Energy Optimization - Magniture\, Inc.<br />\n<br />\n<br />\n- Water Conservation - Conservations Solutions\, Inc.<br />\n<br />\n<br />\nDiscussions will include Utility Rebates and 0% interest Loan Programs<br />\n<br />\nFollowing the presentations\, participants can meet the speakers to discuss their specific needs and challenges.<br />\n<br />\n<br />\nSpace is Limited<br />\n<br />\nPlease reserve your spot today.<br />\nE-mail your RSVP today using the attached link<br />\ninfo@newburyportcleantech.com<br />\n<br />\n<br />\n<br />\n<br />\n<br />\n<br />\n
LOCATION:10 Mulliken Way Newburyport
UID:e.1189.2311
SEQUENCE:3
DTSTAMP:20260419T192055Z
URL:https://business.newburyportchamber.org/events/details/event-at-newburyport-cleantech-center-inc-10-19-2011-2311
END:VEVENT

END:VCALENDAR
