BEGIN:VCALENDAR
VERSION:2.0
PRODID:-//ChamberMaster//Event Calendar 2.0//EN
METHOD:PUBLISH
X-PUBLISHED-TTL:P3D
REFRESH-INTERVAL:P3D
CALSCALE:GREGORIAN
BEGIN:VEVENT
DTSTART:20111210T000000Z
DTEND:20111210T050000Z
X-MICROSOFT-CDO-ALLDAYEVENT:FALSE
SUMMARY:Event at Keon's at Black Swan Country Club
DESCRIPTION:Keons at the Black Swan Country Club\n\n	Holiday Share Party\n\n	\n\n	A Big Party for Small Businesses\n\n	\n\n	Friday \, December 9th 7pm-12am\n\n	\n\n	Do you think your office is too small to have a holiday party???\n\n	\n\n	We've got you covered this holiday season by combining several office parties into one\, big\, fun holiday blast!\n\n	\n\n	Hors D'oeuvres~Dinner Buffet~DJ~ Dancing\n\n	\n\n	$48 per person ( all inclusive)\n\n	\n\n	CASH BAR (Custom Bar Options Available)\n\n	\n\n	\n\n	Space is limited. Reservations for groups of 8 or more. Full table discounts.\n\n	Call 978-352-7926 x205 for further information\, menu details and reservations!
X-ALT-DESC;FMTTYPE=text/html:<p style="text-align: center">\n	<span style="font-family: comic sans ms"><span style="font-size: 14px"><span style="font-size: 16px"><span style="color: #ff0000">Keons at the Black Swan Country Club<br />\n	Holiday Share Party</span></span><br />\n	<br />\n	<span style="color: #008000">A Big Party for Small Businesses</span><br />\n	<br />\n	<span style="font-size: 16px"><span style="color: #ff0000">Friday \, December 9th 7pm-12am</span></span><br />\n	<br />\n	<span style="color: #008000">Do you think your office is too small to have a holiday party???<br />\n	<br />\n	We&#39\;ve got you covered this holiday season by combining several office parties into one\, big\, fun holiday blast!</span><br />\n	<br />\n	<span style="color: #ff0000">Hors D&#39\;oeuvres~Dinner Buffet~DJ~ Dancing<br />\n	<br />\n	$48 per person ( all inclusive)<br />\n	<br />\n	CASH BAR (Custom Bar Options Available)</span></span><br />\n	<br />\n	<br />\n	<span style="color: #008000"><span style="font-size: 14px">Space is limited. Reservations for groups of 8 or more. Full table discounts.</span><br />\n	Call 978-352-7926 x205 for further information\, menu details and reservations!</span></span></p>\n
LOCATION:Keons at the Black Swan Country Club
UID:e.1189.2378
SEQUENCE:3
DTSTAMP:20260419T161428Z
URL:https://business.newburyportchamber.org/events/details/event-at-keon-s-at-black-swan-country-club-12-09-2011-2378
END:VEVENT

END:VCALENDAR
