BEGIN:VCALENDAR
VERSION:2.0
PRODID:-//ChamberMaster//Event Calendar 2.0//EN
METHOD:PUBLISH
X-PUBLISHED-TTL:P3D
REFRESH-INTERVAL:P3D
CALSCALE:GREGORIAN
BEGIN:VEVENT
DTSTART:20111209T223000Z
DTEND:20111210T010000Z
X-MICROSOFT-CDO-ALLDAYEVENT:FALSE
SUMMARY:Event at Fitness Together
DESCRIPTION:Stop in for our Holiday Open House!\n\n\n\nFriday Dec. 9th from 5:30p - 8p\n\n\n\nMake sure to get your Holiday Gift Card\, for family\, friends or even yourself!\n\nGift Card Specials available from 5:30-8p while supplies last (first come first serve)\n\n\n\nIT'S NEW : Check out our new PACK Workouts (Small Group Personal Training)
X-ALT-DESC;FMTTYPE=text/html:<span style="font-size: 18px">Stop in for our <u>Holiday Open House!</u></span><br />\n<br />\n<span style="font-size: 12px"><span style="font-size: 16px"><strong>Friday Dec. 9th from 5:30p - 8p</strong></span><br />\n<br />\n<span style="font-size: 14px">Make sure to get your Holiday Gift Card\, for family\, friends or even yourself!<br />\n<strong>Gift Card Specials </strong>available from 5:30-8p while supplies last</span></span><span style="font-size: 14px"> (first come first serve)</span><br />\n<br />\n<span style="font-size: 12px"><span style="font-size: 14px"><em>IT&#39\;S NEW :</em> Check out our new <strong><u>PACK Workouts</u></strong> </span></span><span style="font-size: 14px">(Small Group Personal Training)</span>
LOCATION:80 State Street Newburyport\, MA
UID:e.1189.2412
SEQUENCE:3
DTSTAMP:20260419T174224Z
URL:https://business.newburyportchamber.org/events/details/event-at-fitness-together-12-09-2011-2412
END:VEVENT

END:VCALENDAR
