BEGIN:VCALENDAR
VERSION:2.0
PRODID:-//ChamberMaster//Event Calendar 2.0//EN
METHOD:PUBLISH
X-PUBLISHED-TTL:P3D
REFRESH-INTERVAL:P3D
CALSCALE:GREGORIAN
BEGIN:VEVENT
DTSTART:20110910T220000Z
DTEND:20110911T010000Z
X-MICROSOFT-CDO-ALLDAYEVENT:FALSE
SUMMARY:Event at Bridge Gallery
DESCRIPTION:TH/ink\,an esoteric collection of distictive Quill Dip Pen art by Elaine Asplind Russell\, will be displayed at Bridge Gallery\,1R Water Street\, Newburyport for the month of September. A reception for the artist will be held on Saturday\, September 10th from 6-9pm with entertainment by Setphen Hochbrunn\,Classical Guitarist.\n\n\n\nDemonstrations by the artist will be given on Wednesdays throughout the month of September during regular gallery hours - 12:00 PM - 6:00 PM.\n\n\n\nPlease contact the gallery for additonal information.www.BridgeGalleryNewburyport.com
X-ALT-DESC;FMTTYPE=text/html:TH/ink\,an esoteric collection of distictive <strong>Quill Dip Pen art by Elaine Asplind Russell</strong>\,&nbsp\;will be displayed at Bridge Gallery\,1R Water Street\, Newburyport for the month of September. A reception for the artist will be held on Saturday\, September 10th from 6-9pm with entertainment by Setphen Hochbrunn\,Classical Guitarist.<br />\n<br />\nDemonstrations by the artist will be given on Wednesdays throughout the month of September during regular gallery hours - 12:00 PM - 6:00 PM.<br />\n<br />\nPlease contact the gallery for additonal information.www.BridgeGalleryNewburyport.com
LOCATION:Bridge Gallery 1R Water Street\,Newburyport
UID:e.1189.2196
SEQUENCE:3
DTSTAMP:20260419T225514Z
URL:https://business.newburyportchamber.org/events/details/event-at-bridge-gallery-09-10-2011-2196
END:VEVENT

END:VCALENDAR
