BEGIN:VCALENDAR
VERSION:2.0
PRODID:-//ChamberMaster//Event Calendar 2.0//EN
METHOD:PUBLISH
X-PUBLISHED-TTL:P3D
REFRESH-INTERVAL:P3D
CALSCALE:GREGORIAN
BEGIN:VEVENT
DTSTART;VALUE=DATE:20110617
DTEND;VALUE=DATE:20110620
TRANSP:TRANSPARENT
X-MICROSOFT-CDO-ALLDAYEVENT:TRUE
SUMMARY:Esther de Waal: Imagine
DESCRIPTION:Imagine Esther will be looking at Thomas Merton's use of the camera to enhance the contemplative view of the world as well as the religious poetry of Wales. Many of us today are feeling left-brain weary\, battered by the heavy words of the institutional church. This retreat is an attempt to redress the balance by refreshing the other side of ourselves\, through the vision of artists and poets.This retreat will provide time for silence and discussion\, time to read poetry aloud and to see some of Merton's photography. Leader: Esther de Waal is an Anglican lay woman\, mother\, grandmother\, and gardener living on the borders of England and Wales. The author of many books\, with a PhD from Cambridge\, England\, she increasingly finds she draws her energy from symbol and image and the visual. Program fee $120 Room &amp\; board $200 Total cost $320. Program check-in 4:00   6:00 pm Friday
X-ALT-DESC;FMTTYPE=text/html:Imagine Esther will be looking at Thomas Merton&rsquo\;s use of the camera to enhance the contemplative view of the world as well as the religious poetry of Wales. Many of us today are feeling left-brain weary\, battered by the heavy words of the institutional church. This retreat is an attempt to redress the balance by refreshing the other side of ourselves\, through the vision of artists and poets.This retreat will provide time for silence and discussion\, time to read poetry aloud and to see some of Merton&rsquo\;s photography. Leader: Esther de Waal is an Anglican lay woman\, mother\, grandmother\, and gardener living on the borders of England and Wales. The author of many books\, with a PhD from Cambridge\, England\, she increasingly finds she draws her energy from symbol and image and the visual. Program fee $120 Room &amp\;amp\; board $200 Total cost $320. Program check-in 4:00 &ndash\; 6:00 pm Friday 
LOCATION:Adelynrood Retreat and Conference Center 46 Elm Street Byfield (978) 462-6721
UID:e.1189.1873
SEQUENCE:3
DTSTAMP:20260420T015923Z
URL:https://business.newburyportchamber.org/events/details/esther-de-waal-imagine-06-17-2011-1873
END:VEVENT

END:VCALENDAR
