BEGIN:VCALENDAR
VERSION:2.0
PRODID:-//ChamberMaster//Event Calendar 2.0//EN
METHOD:PUBLISH
X-PUBLISHED-TTL:P3D
REFRESH-INTERVAL:P3D
CALSCALE:GREGORIAN
BEGIN:VEVENT
DTSTART:20110617T200000Z
DTEND:20110620T010000Z
X-MICROSOFT-CDO-ALLDAYEVENT:FALSE
SUMMARY:Esther de Waal: Imagine
DESCRIPTION:Imagine Esther will be looking at Thomas Merton's use of the camera to enhance the contemplative view of the world as well as the religious poetry of Wales. Many of us today are feeling left-brain weary\, battered by the heavy words of the institutional church. This retreat is an attempt to redress the balance by refreshing the other side of ourselves\, through the vision of artists and poets.This retreat will provide time for silence and discussion\, time to read poetry aloud and to see some of Merton's photography.\n\n\n\nLeader: Esther de Waal is an Anglican lay woman\, mother\, grandmother\, and gardener living on the borders of England and Wales. The author of many books\, with a PhD from Cambridge\, England\, she increasingly finds she draws her energy from symbol and image and the visual.\n\n\n\nProgram fee $120\; Room & Board\; $200. Total cost $320 Program\n\nCheck-in 4:00 - 6:00 pm Friday.
X-ALT-DESC;FMTTYPE=text/html:Imagine Esther will be looking at Thomas Merton&#39\;s use of the camera to enhance the contemplative view of the world as well as the religious poetry of Wales. Many of us today are feeling left-brain weary\, battered by the heavy words of the institutional church. This retreat is an attempt to redress the balance by refreshing the other side of ourselves\, through the vision of artists and poets.This retreat will provide time for silence and discussion\, time to read poetry aloud and to see some of Merton&#39\;s photography.<br />\n<br />\nLeader: Esther de Waal is an Anglican lay woman\, mother\, grandmother\, and gardener living on the borders of England and Wales. The author of many books\, with a PhD from Cambridge\, England\, she increasingly finds she draws her energy from symbol and image and the visual.<br />\n<br />\nProgram fee $120\; Room &amp\; Board\; $200. Total cost $320 Program<br />\nCheck-in 4:00 - 6:00 pm Friday.
LOCATION:Adelynrood Retreat and Conference Center
UID:e.1189.1790
SEQUENCE:3
DTSTAMP:20260420T034821Z
URL:https://business.newburyportchamber.org/events/details/esther-de-waal-imagine-06-17-2011-1790
END:VEVENT

END:VCALENDAR
