BEGIN:VCALENDAR
VERSION:2.0
PRODID:-//ChamberMaster//Event Calendar 2.0//EN
METHOD:PUBLISH
X-PUBLISHED-TTL:P3D
REFRESH-INTERVAL:P3D
CALSCALE:GREGORIAN
BEGIN:VEVENT
DTSTART:20111027T194500Z
DTEND:20111027T213000Z
X-MICROSOFT-CDO-ALLDAYEVENT:FALSE
SUMMARY:Essex Heritage Event "Smolak Farms Tour"
DESCRIPTION:Autumn is around the corner! Join us for a farm tour at Smolak Farms in North Andover!\n\nEnjoy afterschool fun for kids and grandkids\; a guided narration about Smolak Farms while on a tractor drawn hayride. A knowledgeable guide will share the history of the farm as well as the different crops grown. We will stop for a chance to pick your own sugar pumpkin and then head back to visit their 150-year-old barn for a taste of their famous apple cider donuts and a cup of apple cider. The perfect fall outing!\n\n\n\nThis event is rain or shine. All of the hay wagons are covered. Wagons cannot\n\naccommodate strollers or wheelchairs. Please dress appropriately and consider wearing\n\nclosed-toe shoes. Please arrive on time\, the hayride begins promptly at 4:00PM.\n\n\n\nWould you like to join us? This event is open to the public\, families and kids welcome! Space is limited and reservations are required. Please RSVP with payment by Monday\, October 24. Essex Heritage members $11/Non-members $15. Please register in advance online at www.EssexHeritage.org/membership\, call 978-740-0444\, or send checks to Essex Heritage\, 221 Essex Street\, Salem\, MA 01970.
X-ALT-DESC;FMTTYPE=text/html:Autumn is around the corner! Join us for a farm tour at Smolak Farms in North Andover!<br />\nEnjoy afterschool fun for kids and grandkids\; a guided narration about Smolak Farms while on a tractor drawn hayride. A knowledgeable guide will share the history of the farm as well as the different crops grown. We will stop for a chance to pick your own sugar pumpkin and then head back to visit their 150-year-old barn for a taste of their famous apple cider donuts and a cup of apple cider. The perfect fall outing!<br />\n<br />\nThis event is rain or shine. All of the hay wagons are covered. Wagons cannot<br />\naccommodate strollers or wheelchairs. Please dress appropriately and consider wearing<br />\nclosed-toe shoes. Please arrive on time\, the hayride begins promptly at 4:00PM.<br />\n<br />\nWould you like to join us? This event is open to the public\, families and kids welcome! Space is limited and reservations are required. Please RSVP with payment by Monday\, October 24. Essex Heritage members $11/Non-members $15. Please register in advance online at www.EssexHeritage.org/membership\, call 978-740-0444\, or send checks to Essex Heritage\, 221 Essex Street\, Salem\, MA 01970.<br />\n
LOCATION:Smolak Farm 315 South Bradford Street North Andover\, MA 01845
UID:e.1189.2230
SEQUENCE:3
DTSTAMP:20260419T192252Z
URL:https://business.newburyportchamber.org/events/details/essex-heritage-event-smolak-farms-tour-10-27-2011-2230
END:VEVENT

END:VCALENDAR
