BEGIN:VCALENDAR
VERSION:2.0
PRODID:-//ChamberMaster//Event Calendar 2.0//EN
METHOD:PUBLISH
X-PUBLISHED-TTL:P3D
REFRESH-INTERVAL:P3D
CALSCALE:GREGORIAN
BEGIN:VEVENT
DTSTART:20111005T113000Z
DTEND:20111005T133000Z
X-MICROSOFT-CDO-ALLDAYEVENT:FALSE
SUMMARY:Educational Seminar - Motivating Your Best Assets!
DESCRIPTION:Motivating Your Employees - Your Greatest Asset!\n\nWhether a superstar or challenging employee\, learn how to motivate and empower them for success.\n\n \n\nIn these uncertain economic times\, managers have to deal with employees that are overwhelmed and overworked. How do you retain your superstars so they will continue to perform without burning out\, and motivate under achieving employees toward success? \n\n\n\nWorking managers need to find the balance to improve both morale and productivity!  \n\n\n\nHear from HR expert Laurie LaBrie\, President of Integrated Human Resources Team  on the steps you can take to get the most from your greatest assets!\n\n\n\nSponsored by Newburyport Five Cents Savings Bank
X-ALT-DESC;FMTTYPE=text/html:<span style="font-size: 16px"><span style="color: #a52a2a"><strong><span style="font-family: calibri"><span style="font-family: calibri">Motivating Your Employees - Your Greatest Asset!</span></span></strong></span><br />\n<strong><span style="font-family: calibri"><span style="font-family: calibri">Whether a superstar or challenging employee\, learn how to motivate and empower them for success.</span></span></strong></span><br />\n&nbsp\;<br />\n<span style="font-size: medium"><span style="font-family: calibri"><span style="font-size: 12pt"><span style="font-family: calibri"><span style="font-size: 10pt"><span style="font-family: tahoma">In these uncertain economic times\, managers have to deal with employees that are overwhelmed and overworked. How do you retain your superstars so they will continue to perform without burning out\, and&nbsp\;motivate&nbsp\;under achieving employees toward success?&nbsp\;<br />\n<br />\nWorking managers need to find the balance to improve both morale and productivity!&nbsp\;&nbsp\;<br />\n<br />\nHear from HR expert Laurie LaBrie\, President of<font face="Calibri" size="3">&nbsp\;</font><a href="http://integratedhrteam.com/"><font face="Calibri" size="3">Integrated Human Resources Team</font></a>&nbsp\;<span _fck_bookmark="1" style="display: none">&nbsp\;</span>on the steps <strong><em>you</em></strong> can take to get the most from your greatest assets!</span></span><br />\n<br />\n<span style="color: #000080"><strong><span style="font-size: 16px">Sponsored by </span></strong></span><strong><span style="font-size: 16px"><a href="http://www.newburyportbank.com"><span style="color: #000080">Newburyport Five Cents Savings Bank</span></a></span></strong></span></span></span></span><br />\n<br />\n
LOCATION:Newburyport Five Cents Savings Bank Lower level conference room 63 State Street Enter to the left of main entrance down the stairwell.
UID:e.1189.2202
SEQUENCE:3
DTSTAMP:20260419T205121Z
URL:https://business.newburyportchamber.org/events/details/educational-seminar-motivating-your-best-assets-10-05-2011-2202
END:VEVENT

END:VCALENDAR
