BEGIN:VCALENDAR
VERSION:2.0
PRODID:-//ChamberMaster//Event Calendar 2.0//EN
METHOD:PUBLISH
X-PUBLISHED-TTL:P3D
REFRESH-INTERVAL:P3D
CALSCALE:GREGORIAN
BEGIN:VEVENT
DTSTART:20101103T040000Z
DTEND:20101103T040000Z
X-MICROSOFT-CDO-ALLDAYEVENT:FALSE
SUMMARY:Educational Seminar - Marketing Interactive Workshop
DESCRIPTION:Marketing Interactive Workshop Effective marketing and branding is critical to the success of your business. Don't miss this engaging workshop with the dynamic and award-winning Matt Bowen\, President and CEO of Aloft Group.  Matt is returning again for a second month to further discuss the topic of Developing Your Marketing Mix. As a participant you will focus on who your target customer is\, defining your goal and what you need your marketing to do for you. Click here to see the worksheet that will be the focus of the workshop and bring your questions and answers with you! Come and share your ideas and concerns.November 3 7:45AM - Check-in\, Coffee & Networking8:05 AM - Presentation BeginsSponsored by Institution for Savings Members: $15 AdmissionNon Members: $25 Admission Coffee and muffins will be served. Location: Newburyport Public Library\, 94 State Street ** Enter through BACK door. Go down Prince Place next to Taffy's and turn Left.
X-ALT-DESC;FMTTYPE=text/html:<DIV><P class=MsoNormal><FONT color=#0f0f0f></FONT><P class=MsoNormal><FONT color=#0f0f0f face="Times New Roman"><SPAN style="FONT-SIZE: 12pt"></SPAN></FONT></P><FONT face=Arial><FONT size=2><FONT color=#ff0000 size=3><P style="MARGIN: 0in 0in 0pt" class=MsoNormal><SPAN style="FONT-FAMILY: Arial\; FONT-SIZE: 10pt"><FONT color=#000000></P><P style="MARGIN: 0in 0in 0pt" class=MsoNormal><FONT color=#008000 size=3><STRONG>Marketing Interactive Workshop</STRONG></FONT></P><P style="MARGIN: 0in 0in 0pt" class=MsoNormal>&nbsp\;</P><P style="MARGIN: 0in 0in 0pt" class=MsoNormal><FONT color=#000000 size=3>Effective marketing and branding is critical to the success of your business. Don't miss this engaging workshop with the dynamic and award-winning Matt Bowen\, President and CEO of <A style="COLOR: blue\; TEXT-DECORATION: underline" title="" dataFld=0:0 href="http://www.aloftgrop.com" target=_NewWindow><STRONG><FONT color=#000000>Aloft Group.</FONT></STRONG></A>&nbsp\;</FONT></P><P style="MARGIN: 0in 0in 0pt" class=MsoNormal><FONT size=3></FONT>&nbsp\;</P><P style="MARGIN: 0in 0in 0pt" class=MsoNormal><FONT size=3>Matt is returning again for a second month to&nbsp\;further discuss&nbsp\;the topic of Developing Your Marketing Mix. As a participant you will focus on who your target customer is\, defining your goal and what you need your marketing&nbsp\;to do for you. <A style="COLOR: blue\; TEXT-DECORATION: underline" title="" dataFld=0:0 href="http://www.newburyportchamber.org/pdf/marketing_matrix_worksheet.pdf" target=_NewWindow><FONT color=#0f0f0f><STRONG>Click here</STRONG></FONT></A> to see the worksheet&nbsp\;that will be the focus of the workshop and bring&nbsp\;your questions and answers with you! Come and share your ideas and concerns.</FONT></P><P style="MARGIN: 0in 0in 0pt" class=MsoNormal><P style="MARGIN: 0in 0in 0pt" class=MsoNormal><SPAN style="FONT-FAMILY: Calibri"><FONT size=3></FONT></SPAN></P><SPAN style="FONT-FAMILY: Calibri"><FONT size=3></FONT></SPAN><P></P><P style="MARGIN: 0in 0in 0pt" class=MsoNormal><SPAN style="FONT-FAMILY: Calibri"><FONT size=3>November</FONT></SPAN><SPAN style="FONT-FAMILY: Calibri"><FONT size=3>&nbsp\;3</FONT></SPAN></P><P style="MARGIN: 0in 0in 0pt" class=MsoNormal>&nbsp\;</P><P style="MARGIN: 0in 0in 0pt" class=MsoNormal><SPAN style="FONT-FAMILY: Calibri"><?xml:namespace prefix = o ns = "urn:schemas-microsoft-com:office:office" /><o:p><FONT size=3></FONT></o:p></SPAN></P><SPAN style="FONT-FAMILY: Calibri"><FONT size=3><P style="MARGIN: 0in 0in 0pt" class=MsoNormal><SPAN style="FONT-FAMILY: Calibri"><FONT size=3></P><P style="MARGIN: 0in 0in 0pt" class=MsoNormal><STRONG><FONT color=#ff0000>7:45AM</FONT></STRONG> - Check-in\, Coffee &amp\; Networking<o:p></o:p></FONT></SPAN></P><P style="MARGIN: 0in 0in 0pt" class=MsoNormal><FONT size=3><SPAN style="FONT-FAMILY: Calibri"><FONT color=#ff0000><STRONG>8:05 AM</STRONG></FONT> <FONT color=#000000>- </FONT>Presentation Begins</SPAN></FONT></FONT></SPAN><P style="MARGIN: 0in 0in 0pt" class=MsoNormal><P style="MARGIN: 0in 0in 0pt" class=MsoNormal><SPAN style="FONT-FAMILY: Calibri"><FONT size=3></FONT></SPAN></P><SPAN style="FONT-FAMILY: Calibri"><FONT size=3><o:p><SPAN style="FONT-FAMILY: Arial\; FONT-SIZE: 10pt"><FONT size=3><STRONG><FONT color=#008000></FONT></STRONG></FONT></SPAN><P></P><SPAN style="FONT-FAMILY: Arial\; FONT-SIZE: 10pt"><FONT color=#008000 size=3><STRONG>Sponsored by <A style="COLOR: blue\; TEXT-DECORATION: underline" title="" dataFld=0:0 href="http://institutionforsavings.com" target=_NewWindow>Institution for Savings</A></STRONG></FONT></SPAN><P></P></o:p></FONT></SPAN><P style="MARGIN: 0in 0in 0pt" class=MsoNormal><SPAN style="FONT-FAMILY: Calibri"><o:p><FONT size=3>&nbsp\;</FONT></o:p></SPAN></P><P style="MARGIN: 0in 0in 0pt" class=MsoNormal><SPAN style="FONT-FAMILY: Calibri"><FONT size=3><STRONG>Members:</STRONG> $15 Admission<o:p></o:p></FONT></SPAN></P><P style="MARGIN: 0in 0in 0pt" class=MsoNormal><SPAN style="FONT-FAMILY: Calibri"><FONT size=3><STRONG>Non Members:</STRONG> $25 Admission<o:p></o:p></FONT></SPAN></P><P style="MARGIN: 0in 0in 0pt" class=MsoNormal><SPAN style="FONT-FAMILY: Calibri"><o:p><FONT size=3>&nbsp\;</FONT></o:p></SPAN></P><P style="MARGIN: 0in 0in 0pt" class=MsoNormal><SPAN style="FONT-FAMILY: Calibri"><FONT size=3>Coffee and muffins will be served.<o:p></o:p></FONT></SPAN></P><P style="MARGIN: 0in 0in 0pt" class=MsoNormal>&nbsp\;</P><P style="MARGIN: 0in 0in 0pt" class=MsoNormal></FONT><FONT color=#ff0000 size=3><STRONG>Location: </STRONG></FONT></P><P style="MARGIN: 0in 0in 0pt" class=MsoNormal><STRONG><FONT color=#000000>Newburyport Public Library\, </FONT></STRONG><STRONG><FONT color=#000000>94 State Street </FONT></STRONG></P><P style="MARGIN: 0in 0in 0pt" class=MsoNormal><STRONG><FONT color=#000000>** Enter through BACK door.&nbsp\;Go down&nbsp\;Prince Place next to Taffy's and turn Left.</FONT></STRONG></SPAN></P><P style="MARGIN: 0in 0in 0pt" class=MsoNormal><SPAN style="FONT-FAMILY: Arial\; FONT-SIZE: 10pt"><FONT color=#000000></FONT></SPAN>&nbsp\;</P><P style="MARGIN: 0in 0in 0pt" class=MsoNormal>&nbsp\;</P><P style="MARGIN: 0in 0in 0pt" class=MsoNormal><P style="MARGIN: 0in 0in 0pt" class=MsoNormal><STRONG><FONT color=#000000><?xml:namespace prefix = st1 ns = "urn:schemas-microsoft-com:office:smarttags" /><st1:City><st1:place><I style="mso-bidi-font-style: normal"><SPAN style="FONT-FAMILY: Arial\; FONT-SIZE: 10pt"></SPAN></I></st1:place></st1:City></FONT></STRONG></P><STRONG><FONT color=#000000><st1:City><st1:place><I style="mso-bidi-font-style: normal"><SPAN style="FONT-FAMILY: Arial\; FONT-SIZE: 10pt"></SPAN></I></st1:place></st1:City></FONT></STRONG>&nbsp\;<P></P><P style="MARGIN: 0in 0in 0pt" class=MsoNormal><P style="MARGIN: 0in 0in 0pt" class=MsoNormal><FONT color=#000000><SPAN style="FONT-FAMILY: Arial\; FONT-SIZE: 10pt"></SPAN></FONT></P><FONT color=#000000><SPAN style="FONT-FAMILY: Arial\; FONT-SIZE: 10pt"></SPAN></FONT><P></P><P style="MARGIN: 0in 0in 0pt" class=MsoNormal><SPAN style="FONT-FAMILY: Arial\; FONT-SIZE: 10pt"><FONT size=3><STRONG><FONT color=#008000><o:p></o:p></FONT></STRONG></FONT></SPAN>&nbsp\;</P><P class=MsoNormal></FONT></FONT></FONT></P></DIV>
LOCATION:Newburyport Public Library
UID:e.1189.1503
SEQUENCE:3
DTSTAMP:20260420T141901Z
URL:https://business.newburyportchamber.org/events/details/educational-seminar-marketing-interactive-workshop-11-03-2010-1503
END:VEVENT

END:VCALENDAR
