BEGIN:VCALENDAR
VERSION:2.0
PRODID:-//ChamberMaster//Event Calendar 2.0//EN
METHOD:PUBLISH
X-PUBLISHED-TTL:P3D
REFRESH-INTERVAL:P3D
CALSCALE:GREGORIAN
BEGIN:VEVENT
DTSTART:20100505T040000Z
DTEND:20100505T040000Z
X-MICROSOFT-CDO-ALLDAYEVENT:FALSE
SUMMARY:Educational Seminar - Keeping Your Top Performers at the Top
DESCRIPTION:Increase You Revenues by Keeping Your Top Performers at the Top:\nEngage\, Empower\, Motivate Presented by Lynette Vallecillo of ILV Associates and Mira Furth of We Lead Now High performing employees are the key to any successful organization. Are you wondering how you can continually maintain & manage a high level of performance from your top employees in this challenging business climate?  If you answered yes\, whether your business is small or large\, then you must attend this seminar!   Learn how to: Ø      Recognize Value in employees & acknowledge themØ      Empower top employees to mentor othersØ      Engage employees in implementing changes\, communications and taking on more responsibilityØ      Empower employees to be proactive and creativeØ      Motivate employees to want to become more effective\, efficient and loyal  Sponsored by Newburyport Five Cents Savings Bank  7:45AM   Registration\, Coffee & Networking8:05 AM - 9:30AM   Presentation Members: $15 AdmissionNon Members: $25 Admission Coffee will be served. Location: Newburyport Five Cents Savings Bank\, 63 State Street* Please do not park in bank parking lot\, park on street or in municipal lot.
X-ALT-DESC;FMTTYPE=text/html:<DIV><P class=MsoNormal><FONT color=#0f0f0f></FONT><P class=MsoNormal><FONT color=#0f0f0f face="Times New Roman"><SPAN style="FONT-SIZE: 12pt"></SPAN></FONT></P><FONT face=Arial><FONT size=2><FONT color=#ff0000 size=3><P style="MARGIN: 0in 0in 0pt" class=MsoNormal><SPAN style="FONT-FAMILY: Arial\; FONT-SIZE: 10pt"><FONT color=#000000></P><FONT color=#0000ff size=3><SPAN style="FONT-FAMILY: Calibri"><FONT size=3><P style="MARGIN: 0in 0in 0pt\; tab-stops: 0in 1.25in right 431.6pt" class=MsoNormal><SPAN style="FONT-FAMILY: Calibri\; COLOR: #990099\; FONT-SIZE: 12pt\; mso-bidi-font-size: 10.0pt"><STRONG>Increase You Revenues by Keeping Your Top Performers at the Top:<BR>Engage\, Empower\, Motivate<?xml:namespace prefix = o ns = "urn:schemas-microsoft-com:office:office" /><o:p></o:p></STRONG></SPAN></P><P style="MARGIN: 0in 0in 0pt\; tab-stops: 0in 1.25in right 431.6pt" class=MsoNormal><SPAN style="FONT-FAMILY: Calibri\; FONT-SIZE: 12pt\; mso-bidi-font-size: 10.0pt"><o:p><FONT color=#000000><STRONG></STRONG></FONT></o:p></SPAN>&nbsp\;</P><P style="MARGIN: 0in 0in 0pt\; tab-stops: 0in 1.25in right 431.6pt" class=MsoNormal><SPAN style="FONT-FAMILY: Calibri\; FONT-SIZE: 12pt\; mso-bidi-font-size: 10.0pt"><o:p><STRONG><FONT color=#000000>Presented by Lynette Vallecillo of <A style="COLOR: blue\; TEXT-DECORATION: underline" title="" dataFld=0:0 href="http://www.ilvandassociates.com" target=_NewWindow>ILV Associates</A> and Mira Furth of <A style="COLOR: blue\; TEXT-DECORATION: underline" title="" dataFld=0:0 href="http://www.weleadnow.com/" target=_NewWindow>We Lead Now</A></FONT></STRONG></o:p></SPAN></P><P style="MARGIN: 0in 0in 0pt\; tab-stops: 0in 1.25in right 431.6pt" class=MsoNormal><SPAN style="FONT-FAMILY: Calibri\; FONT-SIZE: 12pt\; mso-bidi-font-size: 10.0pt"><o:p><STRONG><FONT color=#000000></FONT></STRONG></o:p></SPAN>&nbsp\;</P><P style="MARGIN: 0in 0in 0pt\; tab-stops: 0in 1.25in right 431.6pt" class=MsoNormal><FONT color=#000000><SPAN style="FONT-FAMILY: Calibri\; FONT-SIZE: 12pt\; mso-bidi-font-size: 10.0pt">High performing employees are the key to any successful organization. Are you wondering how you can continu</SPAN><?xml:namespace prefix = st1 ns = "urn:schemas-microsoft-com:office:smarttags" /><st1:PersonName><SPAN style="FONT-FAMILY: Calibri\; FONT-SIZE: 12pt\; mso-bidi-font-size: 10.0pt">all</SPAN></st1:PersonName><SPAN style="FONT-FAMILY: Calibri\; FONT-SIZE: 12pt\; mso-bidi-font-size: 10.0pt">y maintain &amp\; manage a high level of performance from your top employees in this ch</SPAN><st1:PersonName><SPAN style="FONT-FAMILY: Calibri\; FONT-SIZE: 12pt\; mso-bidi-font-size: 10.0pt">all</SPAN></st1:PersonName><SPAN style="FONT-FAMILY: Calibri\; FONT-SIZE: 12pt\; mso-bidi-font-size: 10.0pt">enging business climate?<SPAN style="mso-spacerun: yes">&nbsp\; </SPAN>If you answered yes\, whether your business is sm</SPAN><st1:PersonName><SPAN style="FONT-FAMILY: Calibri\; FONT-SIZE: 12pt\; mso-bidi-font-size: 10.0pt">all</SPAN></st1:PersonName><SPAN style="FONT-FAMILY: Calibri\; FONT-SIZE: 12pt\; mso-bidi-font-size: 10.0pt"> or large\, then you must attend this seminar! <SPAN style="mso-spacerun: yes">&nbsp\;</SPAN><o:p></o:p></SPAN></FONT></P><P style="MARGIN: 0in 0in 0pt\; tab-stops: 0in 1.25in right 431.6pt" class=MsoNormal><SPAN style="FONT-FAMILY: Calibri\; FONT-SIZE: 12pt\; mso-bidi-font-size: 10.0pt"><o:p><FONT color=#000000>&nbsp\;</FONT></o:p></SPAN></P><P style="MARGIN: 0in 0in 0pt\; tab-stops: 0in 1.25in right 431.6pt" class=MsoNormal><SPAN style="FONT-FAMILY: Calibri\; FONT-SIZE: 12pt\; mso-bidi-font-size: 10.0pt"><FONT color=#000000>Learn how to:<o:p></o:p></FONT></SPAN></P><P style="MARGIN: 0in 0in 0pt\; tab-stops: 0in 1.25in right 431.6pt" class=MsoNormal><SPAN style="FONT-FAMILY: Calibri\; FONT-SIZE: 12pt\; mso-bidi-font-size: 10.0pt"><o:p><FONT color=#000000>&nbsp\;</FONT></o:p></SPAN></P><P style="TEXT-INDENT: -0.25in\; MARGIN: 0in 0in 0pt 0.5in\; tab-stops: 0in list .5in left 1.25in right 431.6pt\; mso-list: l0 level1 lfo1" class=MsoNormal><FONT color=#000000><SPAN style="FONT-FAMILY: Wingdings\; FONT-SIZE: 12pt\; mso-bidi-font-size: 10.0pt\; mso-fareast-font-family: Wingdings\; mso-bidi-font-family: Wingdings"><SPAN style="mso-list: Ignore">Ø<SPAN style="FONT: 7pt 'Times New Roman'">&nbsp\;&nbsp\;&nbsp\;&nbsp\;&nbsp\; </SPAN></SPAN></SPAN><SPAN style="FONT-FAMILY: Calibri\; FONT-SIZE: 12pt\; mso-bidi-font-size: 10.0pt">Recognize Value in employees &amp\; acknowledge them<o:p></o:p></SPAN></FONT></P><P style="TEXT-INDENT: -0.25in\; MARGIN: 0in 0in 0pt 0.5in\; tab-stops: 0in list .5in left 1.25in right 431.6pt\; mso-list: l0 level1 lfo1" class=MsoNormal><FONT color=#000000><SPAN style="FONT-FAMILY: Wingdings\; FONT-SIZE: 12pt\; mso-bidi-font-size: 10.0pt\; mso-fareast-font-family: Wingdings\; mso-bidi-font-family: Wingdings"><SPAN style="mso-list: Ignore">Ø<SPAN style="FONT: 7pt 'Times New Roman'">&nbsp\;&nbsp\;&nbsp\;&nbsp\;&nbsp\; </SPAN></SPAN></SPAN><SPAN style="FONT-FAMILY: Calibri\; FONT-SIZE: 12pt\; mso-bidi-font-size: 10.0pt">Empower top employees to mentor others<o:p></o:p></SPAN></FONT></P><P style="TEXT-INDENT: -0.25in\; MARGIN: 0in 0in 0pt 0.5in\; tab-stops: 0in list .5in left 1.25in right 431.6pt\; mso-list: l0 level1 lfo1" class=MsoNormal><FONT color=#000000><SPAN style="FONT-FAMILY: Wingdings\; FONT-SIZE: 12pt\; mso-bidi-font-size: 10.0pt\; mso-fareast-font-family: Wingdings\; mso-bidi-font-family: Wingdings"><SPAN style="mso-list: Ignore">Ø<SPAN style="FONT: 7pt 'Times New Roman'">&nbsp\;&nbsp\;&nbsp\;&nbsp\;&nbsp\; </SPAN></SPAN></SPAN><SPAN style="FONT-FAMILY: Calibri\; FONT-SIZE: 12pt\; mso-bidi-font-size: 10.0pt">Engage employees in implementing changes\, communications and taking on more responsibility<o:p></o:p></SPAN></FONT></P><P style="TEXT-INDENT: -0.25in\; MARGIN: 0in 0in 0pt 0.5in\; tab-stops: 0in list .5in left 1.25in right 431.6pt\; mso-list: l0 level1 lfo1" class=MsoNormal><FONT color=#000000><SPAN style="FONT-FAMILY: Wingdings\; FONT-SIZE: 12pt\; mso-bidi-font-size: 10.0pt\; mso-fareast-font-family: Wingdings\; mso-bidi-font-family: Wingdings"><SPAN style="mso-list: Ignore">Ø<SPAN style="FONT: 7pt 'Times New Roman'">&nbsp\;&nbsp\;&nbsp\;&nbsp\;&nbsp\; </SPAN></SPAN></SPAN><SPAN style="FONT-FAMILY: Calibri\; FONT-SIZE: 12pt\; mso-bidi-font-size: 10.0pt">Empower employees to be proactive and creative<o:p></o:p></SPAN></FONT></P><P style="TEXT-INDENT: -0.25in\; MARGIN: 0in 0in 0pt 0.5in\; tab-stops: 0in list .5in left 1.25in right 431.6pt\; mso-list: l0 level1 lfo1" class=MsoNormal><FONT color=#000000><SPAN style="FONT-FAMILY: Wingdings\; FONT-SIZE: 12pt\; mso-bidi-font-size: 10.0pt\; mso-fareast-font-family: Wingdings\; mso-bidi-font-family: Wingdings"><SPAN style="mso-list: Ignore">Ø<SPAN style="FONT: 7pt 'Times New Roman'">&nbsp\;&nbsp\;&nbsp\;&nbsp\;&nbsp\; </SPAN></SPAN></SPAN><SPAN style="FONT-FAMILY: Calibri\; FONT-SIZE: 12pt\; mso-bidi-font-size: 10.0pt">Motivate employees to want to become more effective\, efficient and loyal</SPAN></FONT><FONT color=#000000><SPAN style="FONT-FAMILY: Calibri\; FONT-SIZE: 12pt\; mso-bidi-font-size: 10.0pt">&nbsp\;</SPAN></FONT></P><P style="TEXT-INDENT: -0.25in\; MARGIN: 0in 0in 0pt 0.5in\; tab-stops: 0in list .5in left 1.25in right 431.6pt\; mso-list: l0 level1 lfo1" class=MsoNormal><FONT color=#000000><SPAN style="FONT-FAMILY: Calibri\; FONT-SIZE: 12pt\; mso-bidi-font-size: 10.0pt"></SPAN></FONT>&nbsp\;</P><P style="TEXT-INDENT: -0.25in\; MARGIN: 0in 0in 0pt 0.5in\; tab-stops: 0in list .5in left 1.25in right 431.6pt\; mso-list: l0 level1 lfo1" class=MsoNormal></FONT></SPAN></FONT><SPAN style="FONT-FAMILY: Calibri"><FONT size=3><o:p><SPAN style="FONT-FAMILY: Arial\; FONT-SIZE: 10pt"><FONT color=#000080 size=3><A style="COLOR: navy\; TEXT-DECORATION: underline" title="" dataFld=0:0 href="http://www.newburyportbank.com/" target=_NewWindow><STRONG>Sponsored by Newburyport Five Cents Savings Bank</STRONG></A></FONT></SPAN></P></o:p></FONT></SPAN><P style="MARGIN: 0in 0in 0pt" class=MsoNormal><SPAN style="FONT-FAMILY: Calibri"><o:p><FONT size=3>&nbsp\;</FONT></o:p></SPAN></P><SPAN style="FONT-FAMILY: Calibri"><FONT size=3><P style="MARGIN: 0in 0in 0pt" class=MsoNormal><SPAN style="FONT-FAMILY: Calibri"><FONT size=3><o:p></o:p></FONT></SPAN><SPAN style="FONT-FAMILY: Calibri"></SPAN><FONT size=2 face=Arial><STRONG>&nbsp\;</STRONG></FONT></P><P style="MARGIN: 0in 0in 0pt" class=MsoNormal><SPAN style="FONT-FAMILY: Calibri"><o:p><FONT size=2 face=Arial></FONT></o:p></SPAN></P><SPAN style="FONT-FAMILY: Calibri"><FONT size=3><P style="MARGIN: 0in 0in 0pt" class=MsoNormal><FONT size=2 face=Arial></FONT><SPAN style="FONT-FAMILY: Calibri"><FONT size=3></P><P style="MARGIN: 0in 0in 0pt" class=MsoNormal><STRONG>7:45AM</STRONG>&nbsp\;&nbsp\; Registration\, Coffee &amp\; Networking<o:p></o:p></FONT></SPAN></P><P style="MARGIN: 0in 0in 0pt" class=MsoNormal><FONT size=3><SPAN style="FONT-FAMILY: Calibri"><STRONG>8:05 AM - 9:30AM</STRONG>&nbsp\;&nbsp\; Presentation</SPAN></FONT></P><P style="MARGIN: 0in 0in 0pt" class=MsoNormal><FONT size=3><SPAN style="FONT-FAMILY: Calibri"></SPAN></FONT>&nbsp\;</P></FONT></SPAN></FONT></SPAN><P style="MARGIN: 0in 0in 0pt" class=MsoNormal><SPAN style="FONT-FAMILY: Calibri"><FONT size=3><STRONG>Members:</STRONG> $15 Admission<o:p></o:p></FONT></SPAN></P><P style="MARGIN: 0in 0in 0pt" class=MsoNormal><SPAN style="FONT-FAMILY: Calibri"><FONT size=3><STRONG>Non Members:</STRONG> $25 Admission<o:p></o:p></FONT></SPAN></P><P style="MARGIN: 0in 0in 0pt" class=MsoNormal><SPAN style="FONT-FAMILY: Calibri"><o:p><FONT size=3>&nbsp\;</FONT></o:p></SPAN></P><P style="MARGIN: 0in 0in 0pt" class=MsoNormal><SPAN style="FONT-FAMILY: Calibri"><FONT size=3>Coffee will be served.<o:p></o:p></FONT></SPAN></P><P style="MARGIN: 0in 0in 0pt" class=MsoNormal>&nbsp\;</P><P style="MARGIN: 0in 0in 0pt" class=MsoNormal><STRONG>Location:</STRONG> Newburyport Five Cents Savings Bank\, 63 State Street</FONT></SPAN></P><P style="MARGIN: 0in 0in 0pt" class=MsoNormal><SPAN style="FONT-FAMILY: Arial\; FONT-SIZE: 10pt"><FONT color=#000000><FONT color=#ff0000 size=4><STRONG>*</STRONG></FONT> Please do not park in bank parking lot\, park on street or in municipal lot.</FONT></SPAN></P><P style="MARGIN: 0in 0in 0pt" class=MsoNormal>&nbsp\;</P><P style="MARGIN: 0in 0in 0pt" class=MsoNormal><P style="MARGIN: 0in 0in 0pt" class=MsoNormal><STRONG><FONT color=#000000><st1:City><st1:place><I style="mso-bidi-font-style: normal"><SPAN style="FONT-FAMILY: Arial\; FONT-SIZE: 10pt"></SPAN></I></st1:place></st1:City></FONT></STRONG></P><STRONG><FONT color=#000000><st1:City><st1:place><I style="mso-bidi-font-style: normal"><SPAN style="FONT-FAMILY: Arial\; FONT-SIZE: 10pt"></SPAN></I></st1:place></st1:City></FONT></STRONG>&nbsp\;<P></P><P style="MARGIN: 0in 0in 0pt" class=MsoNormal><P style="MARGIN: 0in 0in 0pt" class=MsoNormal><FONT color=#000000><SPAN style="FONT-FAMILY: Arial\; FONT-SIZE: 10pt"></SPAN></FONT></P><FONT color=#000000><SPAN style="FONT-FAMILY: Arial\; FONT-SIZE: 10pt"></SPAN></FONT><P></P><P style="MARGIN: 0in 0in 0pt" class=MsoNormal><SPAN style="FONT-FAMILY: Arial\; FONT-SIZE: 10pt"><FONT size=3><STRONG><FONT color=#008000><o:p></o:p></FONT></STRONG></FONT></SPAN>&nbsp\;</P><P class=MsoNormal></FONT></FONT></FONT></P></DIV>
LOCATION:Newburyport Five Cents Savings Bank
UID:e.1189.1498
SEQUENCE:3
DTSTAMP:20260421T051545Z
URL:https://business.newburyportchamber.org/events/details/educational-seminar-keeping-your-top-performers-at-the-top-05-05-2010-1498
END:VEVENT

END:VCALENDAR
