BEGIN:VCALENDAR
VERSION:2.0
PRODID:-//ChamberMaster//Event Calendar 2.0//EN
METHOD:PUBLISH
X-PUBLISHED-TTL:P3D
REFRESH-INTERVAL:P3D
CALSCALE:GREGORIAN
BEGIN:VEVENT
DTSTART:20110302T050000Z
DTEND:20110302T050000Z
X-MICROSOFT-CDO-ALLDAYEVENT:FALSE
SUMMARY:Educational Seminar - How To Build A Winning Team
DESCRIPTION:How to Build A Winning Team\nEveryone Talks About It But How Do You Really Do It? Sponsored by The Newburyport Five Cents Savings BankCreate the Greatest Team to Maximize Your Successü         What are the six keys to a winning team                    ü         What style of leadership builds a winning team and what is your style of leadershipü         How can you create a culture that will foster employee initiative and accountabilityü         How can you hire the RIGHT person for the right jobü         How to avoid painful communication mistakesü         How to get every team member to understand their role in maximizing revenue and profits  Presented by Van C. Smick\, CEO Success & Profits Coaching 7:45 AM Check-in & Networking8:00 PM Presentation BeginsMembers: $15 AdmissionNon Members: $25 Admission Location: Newburyport Public Library\,  State Street. Enter through the back door off Prince Place.* Please do NOT park in the parking lot near the back entrance.
X-ALT-DESC;FMTTYPE=text/html:<DIV><P class=MsoNormal><FONT color=#0f0f0f></FONT><P class=MsoNormal><FONT color=#0f0f0f face="Times New Roman"><SPAN style="FONT-SIZE: 12pt"></SPAN></FONT></P><FONT face=Arial><FONT size=2><FONT color=#ff0000 size=3><P style="MARGIN: 0in 0in 0pt" class=MsoNormal><SPAN style="FONT-FAMILY: Arial\; FONT-SIZE: 10pt"><FONT color=#000000></P><P style="MARGIN: 0in 0in 0pt" class=MsoNormal><FONT color=#0000ff size=3><STRONG>How to Build A Winning Team<BR>Everyone Talks About It But How Do You <EM>Really </EM>Do It?</STRONG></FONT></P><P style="MARGIN: 0in 0in 0pt" class=MsoNormal><STRONG><FONT color=#0000ff size=3></FONT></STRONG>&nbsp\;</P><P style="MARGIN: 0in 0in 0pt" class=MsoNormal><STRONG><FONT color=#0000a0 size=3>Sponsored by <A style="COLOR: blue\; TEXT-DECORATION: underline" title="" dataFld=0:0 href="http://www.newburyportbank.com/" target=_NewWindow><FONT color=#00007d>The Newburyport Five Cents Savings Bank</FONT></A></FONT></STRONG></P><P style="MARGIN-LEFT: 63pt" class=MsoNormal align=left><B><FONT size=4 face="Times New Roman"><SPAN style="FONT-SIZE: 14pt\; FONT-WEIGHT: bold">Create the Greatest Team to Maximize Your Success</SPAN></FONT></B></P><P style="TEXT-INDENT: -22.5pt\; MARGIN-BOTTOM: 0pt\; MARGIN-LEFT: 85.5pt\; MARGIN-RIGHT: 2.4pt" class=MsoNormal align=left><FONT color=#da0000 size=3 face=Wingdings><SPAN style="FONT-FAMILY: Wingdings\; COLOR: #da0000\; FONT-SIZE: 12pt">ü</SPAN></FONT><FONT color=#da0000 size=1><SPAN style="COLOR: #da0000\; FONT-SIZE: 7pt">&nbsp\;&nbsp\;&nbsp\;&nbsp\;&nbsp\;&nbsp\;&nbsp\;&nbsp\; </SPAN></FONT>What are the six keys to a winning team&nbsp\;&nbsp\;&nbsp\;&nbsp\;&nbsp\;&nbsp\;&nbsp\;&nbsp\;&nbsp\;&nbsp\;&nbsp\;&nbsp\;&nbsp\;&nbsp\;&nbsp\;&nbsp\;&nbsp\;&nbsp\;&nbsp\; </P><P style="TEXT-INDENT: -22.5pt\; MARGIN-BOTTOM: 0pt\; MARGIN-LEFT: 85.5pt\; MARGIN-RIGHT: 2.4pt" class=MsoNormal align=left><FONT color=#da0000 size=3 face=Wingdings><SPAN style="FONT-FAMILY: Wingdings\; COLOR: #da0000\; FONT-SIZE: 12pt">ü</SPAN></FONT><FONT color=#da0000 size=1><SPAN style="COLOR: #da0000\; FONT-SIZE: 7pt">&nbsp\;&nbsp\;&nbsp\;&nbsp\;&nbsp\;&nbsp\;&nbsp\;&nbsp\; </SPAN></FONT>What style of leadership builds a winning team and what is your style of leadership</P><P style="TEXT-INDENT: -22.5pt\; MARGIN-BOTTOM: 0pt\; MARGIN-LEFT: 85.5pt\; MARGIN-RIGHT: 2.4pt" class=MsoNormal align=left><FONT color=#da0000 size=3 face=Wingdings><SPAN style="FONT-FAMILY: Wingdings\; COLOR: #da0000\; FONT-SIZE: 12pt">ü</SPAN></FONT><FONT color=#da0000 size=1><SPAN style="COLOR: #da0000\; FONT-SIZE: 7pt">&nbsp\;&nbsp\;&nbsp\;&nbsp\;&nbsp\;&nbsp\;&nbsp\;&nbsp\; </SPAN></FONT>How can you create a culture that will foster employee initiative and accountability</P><P style="TEXT-INDENT: -22.5pt\; MARGIN-BOTTOM: 0pt\; MARGIN-LEFT: 85.5pt\; MARGIN-RIGHT: 2.4pt" class=MsoNormal align=left><FONT color=#da0000 size=3 face=Wingdings><SPAN style="FONT-FAMILY: Wingdings\; COLOR: #da0000\; FONT-SIZE: 12pt">ü</SPAN></FONT><FONT color=#da0000 size=1><SPAN style="COLOR: #da0000\; FONT-SIZE: 7pt">&nbsp\;&nbsp\;&nbsp\;&nbsp\;&nbsp\;&nbsp\;&nbsp\;&nbsp\; </SPAN></FONT>How can you hire the RIGHT person for the right job</P><P style="TEXT-INDENT: -22.5pt\; MARGIN-BOTTOM: 0pt\; MARGIN-LEFT: 85.5pt\; MARGIN-RIGHT: 2.4pt" class=MsoNormal align=left><FONT color=#da0000 size=3 face=Wingdings><SPAN style="FONT-FAMILY: Wingdings\; COLOR: #da0000\; FONT-SIZE: 12pt">ü</SPAN></FONT><FONT color=#da0000 size=1><SPAN style="COLOR: #da0000\; FONT-SIZE: 7pt">&nbsp\;&nbsp\;&nbsp\;&nbsp\;&nbsp\;&nbsp\;&nbsp\;&nbsp\; </SPAN></FONT>How to avoid painful communication mistakes</P><P style="TEXT-INDENT: -22.5pt\; MARGIN-BOTTOM: 0pt\; MARGIN-LEFT: 85.5pt\; MARGIN-RIGHT: 2.4pt" class=MsoNormal align=left><FONT color=#da0000 size=3 face=Wingdings><SPAN style="FONT-FAMILY: Wingdings\; COLOR: #da0000\; FONT-SIZE: 12pt">ü</SPAN></FONT><FONT color=#da0000 size=1><SPAN style="COLOR: #da0000\; FONT-SIZE: 7pt">&nbsp\;&nbsp\;&nbsp\;&nbsp\;&nbsp\;&nbsp\;&nbsp\;&nbsp\; </SPAN></FONT>How to get every team member to understand their role in maximizing revenue and profits</P><P style="MARGIN: 0in 0in 0pt" class=MsoNormal>&nbsp\;</P><P style="MARGIN: 0in 0in 0pt" class=MsoNormal>&nbsp\;</P><P style="MARGIN: 0in 0in 0pt" class=MsoNormal>Presented by Van C. Smick\, <A style="COLOR: blue\; TEXT-DECORATION: underline" title="" dataFld=0:0 href="http://www.successandprofits.com/index.php/About-US/a-personal-bio-of-van-smick.html" target=_NewWindow><FONT color=#0000ff>CEO Success &amp\; Profits Coaching</FONT></A></P><P style="MARGIN: 0in 0in 0pt" class=MsoNormal>&nbsp\;</P><P style="MARGIN: 0in 0in 0pt" class=MsoNormal><FONT size=3><SPAN style="FONT-FAMILY: Calibri"><FONT color=#ff0000><STRONG>7:45 </STRONG></FONT><FONT color=#000000>AM</FONT><FONT color=#000000> Check-in &amp\;</FONT> Networking</SPAN></FONT></P><P style="MARGIN: 0in 0in 0pt" class=MsoNormal><SPAN style="FONT-FAMILY: Calibri"><FONT size=3><STRONG><FONT color=#ff0000>8:00 </FONT></STRONG>PM Presentation Begins</FONT></SPAN></P><P style="MARGIN: 0in 0in 0pt" class=MsoNormal><FONT size=3></FONT><P style="MARGIN: 0in 0in 0pt" class=MsoNormal><SPAN style="FONT-FAMILY: Calibri"><FONT size=3></FONT></SPAN></P><SPAN style="FONT-FAMILY: Calibri"><?xml:namespace prefix = o ns = "urn:schemas-microsoft-com:office:office" /><o:p><SPAN style="FONT-FAMILY: Arial\; FONT-SIZE: 10pt"><STRONG><FONT color=#008000></FONT></STRONG></SPAN><P><FONT size=3></FONT></P></o:p></SPAN><P style="MARGIN: 0in 0in 0pt" class=MsoNormal><SPAN style="FONT-FAMILY: Calibri"><FONT size=3><STRONG>Members:</STRONG> $15 Admission<o:p></o:p></FONT></SPAN></P><P style="MARGIN: 0in 0in 0pt" class=MsoNormal><SPAN style="FONT-FAMILY: Calibri"><FONT size=3><STRONG>Non Members:</STRONG> $25 Admission</FONT></SPAN></P><P style="MARGIN: 0in 0in 0pt" class=MsoNormal><SPAN style="FONT-FAMILY: Calibri"><FONT size=3></FONT></SPAN>&nbsp\;</P><SPAN style="FONT-FAMILY: Calibri"><FONT size=3><o:p><P style="MARGIN: 0in 0in 0pt" class=MsoNormal><STRONG>Location:</STRONG>&nbsp\;<FONT color=#0000ff size=3><STRONG>Newburyport Public Library\, </STRONG></FONT>&nbsp\;State Street. <FONT color=#0000ff><STRONG>Enter&nbsp\;through the back door off Prince Place.</STRONG></FONT></P><P style="MARGIN: 0in 0in 0pt" class=MsoNormal><SPAN style="FONT-FAMILY: Arial\; FONT-SIZE: 10pt"><FONT color=#000000><FONT color=#ff0000 size=4><STRONG>*</STRONG></FONT> Please do NOT&nbsp\;park in&nbsp\;the parking lot near the back entrance.</FONT></SPAN></P></o:p></FONT></SPAN></FONT></SPAN><P></P><P style="MARGIN: 0in 0in 0pt" class=MsoNormal><P style="MARGIN: 0in 0in 0pt" class=MsoNormal><FONT color=#000000><SPAN style="FONT-FAMILY: Arial\; FONT-SIZE: 10pt"></SPAN></FONT></P><FONT color=#000000><SPAN style="FONT-FAMILY: Arial\; FONT-SIZE: 10pt"></SPAN></FONT><P></P><P style="MARGIN: 0in 0in 0pt" class=MsoNormal><SPAN style="FONT-FAMILY: Arial\; FONT-SIZE: 10pt"><FONT size=3><STRONG><FONT color=#008000><o:p></o:p></FONT></STRONG></FONT></SPAN>&nbsp\;</P><P class=MsoNormal></FONT></FONT></FONT></P></DIV>
LOCATION:Newbuyrport Public Library
UID:e.1189.1666
SEQUENCE:3
DTSTAMP:20260420T073133Z
URL:https://business.newburyportchamber.org/events/details/educational-seminar-how-to-build-a-winning-team-03-02-2011-1666
END:VEVENT

END:VCALENDAR
