BEGIN:VCALENDAR
VERSION:2.0
PRODID:-//ChamberMaster//Event Calendar 2.0//EN
METHOD:PUBLISH
X-PUBLISHED-TTL:P3D
REFRESH-INTERVAL:P3D
CALSCALE:GREGORIAN
BEGIN:VEVENT
DTSTART:20090603T040000Z
DTEND:20090603T040000Z
X-MICROSOFT-CDO-ALLDAYEVENT:FALSE
SUMMARY:Educational Seminar - Developing A One Page Business Plan
DESCRIPTION:Developing a One Page Business PlanDeveloping a strategic plan does not have to be a complex undertaking. Learn how to create an understandable and achievable plan for your business.  A Strategic Plan clarifies the vision\, mission\, and values of the business as well as the long and short range goals so that everyone in the organization is focused on a common goal.Whether you are a fairly new business or an existing business whose plan needs a check-up\, learn some easy steps to developing your road map.Speaker: Bob O'Brien\, AdviCoach \n7:45am Coffee & Registration8:00am Presentation begins promptly Location: Institution for Savings Loan Center\n93 State Street\nNewburyportFree Admission MembersNon Members: $20
X-ALT-DESC;FMTTYPE=text/html:<DIV><P class=MsoNormal><FONT color=#0f0f0f></FONT><P class=MsoNormal><FONT face="Times New Roman" color=#0f0f0f><SPAN style="FONT-SIZE: 12pt"></SPAN></FONT></P><FONT face=Arial><FONT size=2><FONT color=#ff0000 size=3><P class=MsoNormal style="MARGIN: 0in 0in 0pt"><SPAN style="FONT-SIZE: 10pt\; FONT-FAMILY: Arial"><FONT size=3><P class=MsoNormal style="MARGIN: 0in 0in 0pt"><SPAN style="FONT-SIZE: 10pt\; FONT-FAMILY: Arial"><FONT color=#008000 size=3><STRONG></STRONG></FONT></SPAN></P><SPAN style="FONT-SIZE: 10pt\; FONT-FAMILY: Arial"><STRONG>Developing a One Page Business Plan</STRONG></SPAN><P></P></FONT></SPAN><P class=MsoNormal style="MARGIN: 0in 0in 0pt"></P><SPAN style="FONT-SIZE: 10pt\; FONT-FAMILY: Arial"><FONT color=#000000><SPAN style="FONT-SIZE: 10pt\; COLOR: blue\; FONT-FAMILY: Arial"><FONT color=#000000><P class=MsoNormal><FONT color=#000000><SPAN style="FONT-SIZE: 10pt\; COLOR: blue\; FONT-FAMILY: Arial"><FONT color=#000000>Developing a strategic plan does not have to be a complex undertaking. Learn how to create an understandable and achievable plan for your business.</FONT>&nbsp\; </SPAN><SPAN style="FONT-SIZE: 10pt\; FONT-FAMILY: Arial">A Strategic Plan clarifies the vision\, mission\, and values of the business as well as the long and short range goals so that everyone in the organization is&nbsp\;<SPAN class=187011614-18052009>focused on a common goal</SPAN>.Whether you are a fairly new business or an existing business whose plan&nbsp\;needs a check-up\, learn some easy steps to developing your road map.</SPAN></FONT></P></FONT></SPAN></FONT></SPAN><P class=MsoNormal style="MARGIN: 0in 0in 0pt"><SPAN style="FONT-SIZE: 10pt\; FONT-FAMILY: Arial"><FONT color=#000000><STRONG>Speaker: Bob O'Brien\, AdviCoach </STRONG><BR></FONT></SPAN></P><P class=MsoNormal style="MARGIN: 0in 0in 0pt"><FONT color=#000000><?xml:namespace prefix = st1 ns = "urn:schemas-microsoft-com:office:smarttags" /><st1:time Hour="7" Minute="45"><SPAN style="FONT-SIZE: 10pt\; FONT-FAMILY: Arial">7:45am Coffee &amp\; Registration</SPAN></st1:time></FONT></P><P class=MsoNormal style="MARGIN: 0in 0in 0pt"><FONT color=#000000><st1:time Hour="7" Minute="45"><SPAN style="FONT-SIZE: 10pt\; FONT-FAMILY: Arial">8:00am Presentation begins promptly</SPAN></st1:time></FONT></P><P class=MsoNormal style="MARGIN: 0in 0in 0pt"><FONT color=#000000><st1:time Hour="7" Minute="45"><SPAN style="FONT-SIZE: 10pt\; FONT-FAMILY: Arial"></SPAN></st1:time></FONT>&nbsp\;</P><P class=MsoNormal style="MARGIN: 0in 0in 0pt"></FONT></FONT></FONT><FONT face=Arial><FONT size=2><FONT color=#ff0000 size=3><SPAN style="FONT-SIZE: 10pt\; FONT-FAMILY: Arial"><FONT color=#000000><STRONG>Location:</STRONG> </FONT></SPAN></P></DIV><DIV><P align=left><SPAN style="FONT-SIZE: 10pt\; FONT-FAMILY: Arial"><FONT color=#000000>Institution for Savings Loan Center<BR>93 State Street<BR>Newburyport</FONT></SPAN></P><P class=MsoNormal style="MARGIN: 0in 0in 0pt"><SPAN style="FONT-SIZE: 10pt\; FONT-FAMILY: Arial"><?xml:namespace prefix = o ns = "urn:schemas-microsoft-com:office:office" /><o:p></o:p></SPAN></P><P class=MsoNormal style="MARGIN: 0in 0in 0pt"><STRONG><FONT color=#000000><st1:City><st1:place><I style="mso-bidi-font-style: normal"><SPAN style="FONT-SIZE: 10pt\; FONT-FAMILY: Arial">Free Admission Members</SPAN></I></st1:place></st1:City></FONT></STRONG></P><P class=MsoNormal style="MARGIN: 0in 0in 0pt"><STRONG><FONT color=#000000><st1:City><st1:place><I style="mso-bidi-font-style: normal"><SPAN style="FONT-SIZE: 10pt\; FONT-FAMILY: Arial">Non Members: $20</SPAN></I></st1:place></st1:City></FONT></STRONG></P><P class=MsoNormal style="MARGIN: 0in 0in 0pt"><STRONG><FONT color=#000000><st1:City><st1:place><I style="mso-bidi-font-style: normal"><SPAN style="FONT-SIZE: 10pt\; FONT-FAMILY: Arial"></SPAN></I></st1:place></st1:City></FONT></STRONG>&nbsp\;</P><P class=MsoNormal style="MARGIN: 0in 0in 0pt"><SPAN style="FONT-SIZE: 10pt\; FONT-FAMILY: Arial"></SPAN></FONT></FONT></FONT>&nbsp\;</P></DIV>
LOCATION:Institution for Savings Lending Center
UID:e.1189.1230
SEQUENCE:3
DTSTAMP:20260421T230304Z
URL:https://business.newburyportchamber.org/events/details/educational-seminar-developing-a-one-page-business-plan-06-03-2009-1230
END:VEVENT

END:VCALENDAR
