BEGIN:VCALENDAR
VERSION:2.0
PRODID:-//ChamberMaster//Event Calendar 2.0//EN
METHOD:PUBLISH
X-PUBLISHED-TTL:P3D
REFRESH-INTERVAL:P3D
CALSCALE:GREGORIAN
BEGIN:VEVENT
DTSTART:20110908T113000Z
DTEND:20110908T133000Z
X-MICROSOFT-CDO-ALLDAYEVENT:FALSE
SUMMARY:Educational Seminar - Blogging
DESCRIPTION:To blog or not to blog? That IS the question.\n\n\n\nIs blogging passe in this age of Facebook and Twitter? Should you start a blog for your small business? How do you do it? Where do you host it?\n\n	We'll break this topic down to three segments:\n\n	* The business case for blogging\, and its relationship to other social media\; \n\n	* Identification of relevant topics for your target audience and content development strategies\;\n\n	* The 'how' and 'where' of the technical aspects of it.\n\n	You'll leave with a clear sense of the potential value of a blog\, what kind of commitment it will take to be successful with it\, strategies for developing relevant content and an 'editorial calendar'\, plus links for further study and exploration\, examples\, and a primer on the mechanics of blog hosting and maintenance. handouts will be provided.\n\n	\n\n	Presenters:  Nils Menten\, President\, iMarc L.L.C and Katie Desmond\n\n	iMarc\,\, im\, iMa\n\n	Katie Desmond \n\n	Sponsored by Insitution for Savings
X-ALT-DESC;FMTTYPE=text/html:<span style="font-size: 14px"><span style="font-family: arial"><span style="color: #a52a2a"><strong><span lang="EN">To blog or not to blog? That IS the question.</span></strong></span></span></span><br />\n<br />\n<span lang="EN">Is blogging passe in this age of Facebook and Twitter? Should you start a blog for your small business? How do you do it? Where do you host it?</span>\n<p>\n	<span lang="EN">We&#39\;ll break this topic down to three segments:</span></p>\n<p>\n	<span lang="EN">* The business case for blogging\, and its relationship to other social media\; </span></p>\n<p>\n	<span lang="EN">* Identification of relevant topics for your target audience and content development strategies\;</span></p>\n<p>\n	<span lang="EN">* The &#39\;how&#39\; and &#39\;where&#39\; of the technical aspects of it.</span></p>\n<p>\n	<span lang="EN">You&#39\;ll leave with a clear sense of the potential value of a blog\, what kind of commitment it will take to be successful with it\, strategies for developing relevant content and an &#39\;editorial calendar&#39\;\, plus links for further study and exploration\, examples\, and a primer on the mechanics of blog hosting and maintenance. handouts will be provided.<br />\n	<br />\n	Presenters:&nbsp\; <span lang="EN">Nils Menten\, </span><span lang="EN">President\, </span><span lang="EN">iMarc L.L.C and <span lang="EN">Katie Desmond<br />\n	<span _fck_bookmark="1" style="display: none">iMarc\,\, im\, iMa</span></span></span></span></p>\n<p>\n	<span lang="EN"><span lang="EN"><span _fck_bookmark="1" style="display: none"><span lang="EN">Katie Desmond<span _fck_bookmark="1" style="display: none">&nbsp\;</span></span></span></span></span></p>\n<p>\n	<strong><span style="color: #006400"><span style="font-size: 14px"><span lang="EN">Sponsored by Insitution for Savings</span></span></span></strong><br />\n	<br />\n	<span lang="EN"><span _fck_bookmark="1" style="display: none">&nbsp\;</span></span></p>\n
LOCATION:Newburyport Public Library 94 State Street Downtown Newburyport\, MA Please enter through the back door.
UID:e.1189.1988
SEQUENCE:3
DTSTAMP:20260419T211135Z
URL:https://business.newburyportchamber.org/events/details/educational-seminar-blogging-09-08-2011-1988
END:VEVENT

END:VCALENDAR
