BEGIN:VCALENDAR
VERSION:2.0
PRODID:-//ChamberMaster//Event Calendar 2.0//EN
METHOD:PUBLISH
X-PUBLISHED-TTL:P3D
REFRESH-INTERVAL:P3D
CALSCALE:GREGORIAN
BEGIN:VEVENT
DTSTART:20091104T050000Z
DTEND:20091104T050000Z
X-MICROSOFT-CDO-ALLDAYEVENT:FALSE
SUMMARY:Education Seminar - Maximize Your Bottom Line!
DESCRIPTION:How to Maximize Your Bottom Line in Today's EconomyNow more than ever\, businesses need sound financial advice. Join entertaining guest speaker\, Steve DeGuglielmo\, CPAas he provides you with real-life solutions that will help you maximize your business’ bottom line in today’s economy.Steve will provide you with effective budgeting techniques (2010 is right around the corner!)\, as well as cash flow templates to help manage your business\, and give you some tips on how to factor overhead costs into what you sell. Steve will also go over the highlights of recent tax law changes\, including information on The American Recovery and Reinvestment Act of 2009 and how it may affect you and your business.Presented by Steve DeGuglielmo\nFritz DeGuglielmo LLC CPAsSponsored by Institution for SavingsFree Admission \nRSVP Required
X-ALT-DESC;FMTTYPE=text/html:<DIV><FONT face=Arial size=2><SPAN style="FONT-WEIGHT: bold\; FONT-SIZE: 10pt\; COLOR: blue\; FONT-STYLE: italic\; FONT-FAMILY: Arial"><FONT face=Georgia color=#000000><FONT face=Arial color=blue size=2><SPAN style="FONT-SIZE: 10pt\; COLOR: blue\; FONT-FAMILY: Arial"><P class=MsoNormal><SPAN style="FONT-SIZE: 10pt\; COLOR: blue\; FONT-FAMILY: Arial"><SPAN class=829080120-22102009><FONT color=#ff0000 size=3><STRONG>How to Maximize Your Bottom Line in Today's Economy</STRONG></FONT></SPAN></SPAN></P><P class=MsoNormal><SPAN style="FONT-SIZE: 10pt\; COLOR: blue\; FONT-FAMILY: Arial">Now more than ever\, businesses need sound financial advice. Join&nbsp\;entertaining guest speaker\, Steve DeGuglielmo\, CPAas he provides you with real-life solutions that will help you maximize your business’ bottom line in today’s economy.</SPAN></P><P class=MsoNormal><FONT face=Arial color=blue size=2><SPAN style="FONT-SIZE: 10pt\; COLOR: blue\; FONT-FAMILY: Arial">Steve will provide you with effective budgeting techniques (2010 is right around the corner!)\, as well as cash flow templates to help manage your business\, and give you some tips on how to factor overhead costs into what you sell.</SPAN></FONT><FONT color=blue><SPAN style="COLOR: blue"> </SPAN></FONT><FONT face=Arial color=blue size=2><SPAN style="FONT-SIZE: 10pt\; COLOR: blue\; FONT-FAMILY: Arial">Steve will also go over the highlights of recent tax law changes\, including information on The American Recovery and Reinvestment Act of 2009 and how it may affect you and your business.</SPAN></FONT></P></SPAN></FONT><P class=MsoNormal><FONT face=Arial color=blue size=2><SPAN style="FONT-SIZE: 10pt\; COLOR: blue\; FONT-FAMILY: Arial">Presented by Steve DeGuglielmo<BR></SPAN></FONT><FONT face=Arial color=blue size=2><SPAN style="FONT-SIZE: 10pt\; COLOR: blue\; FONT-FAMILY: Arial">Fritz DeGuglielmo LLC CPAs</SPAN></FONT></P><FONT face=Arial color=#008000 size=2><SPAN style="FONT-SIZE: 10pt\; COLOR: blue\; FONT-FAMILY: Arial"><P class=MsoNormal style="MARGIN: 0in 0in 0pt"><B style="mso-bidi-font-weight: normal"><SPAN style="COLOR: green\; FONT-FAMILY: Arial"><FONT size=3>Sponsored by Institution for Savings<?xml:namespace prefix = o ns = "urn:schemas-microsoft-com:office:office" /><o:p></o:p></FONT></SPAN></B></P></SPAN></FONT><P class=MsoNormal></FONT></SPAN></FONT><FONT face=Arial size=2><SPAN style="FONT-SIZE: 10pt\; FONT-FAMILY: Arial"><STRONG>Free Admission <BR></STRONG><FONT color=#000000>RSVP Required</FONT></SPAN></FONT></P><P class=MsoNormal><FONT face=Arial color=#ff0000 size=2><SPAN style="FONT-SIZE: 10pt\; FONT-FAMILY: Arial"></SPAN></FONT>&nbsp\;</P></DIV>
LOCATION:Newburyport Chamber of Commerce
UID:e.1189.1314
SEQUENCE:3
DTSTAMP:20260421T164446Z
URL:https://business.newburyportchamber.org/events/details/education-seminar-maximize-your-bottom-line-11-04-2009-1314
END:VEVENT

END:VCALENDAR
