BEGIN:VCALENDAR
VERSION:2.0
PRODID:-//ChamberMaster//Event Calendar 2.0//EN
METHOD:PUBLISH
X-PUBLISHED-TTL:P3D
REFRESH-INTERVAL:P3D
CALSCALE:GREGORIAN
BEGIN:VEVENT
DTSTART:20110406T040000Z
DTEND:20110406T040000Z
X-MICROSOFT-CDO-ALLDAYEVENT:FALSE
SUMMARY:Economic Development Committee Meeting
DESCRIPTION:Meeting of the Economic Development Committee. Invitation only Committee.
X-ALT-DESC;FMTTYPE=text/html:<DIV style="FONT-FAMILY: Arial"><FONT face="Times New Roman">Meeting of the Economic Development Committee.</FONT></DIV><DIV style="FONT-FAMILY: Arial"><FONT face="Times New Roman"></FONT>&nbsp\;</DIV><DIV style="FONT-FAMILY: Arial"><FONT face="Times New Roman">Invitation only Committee.</FONT><FONT face="Times New Roman">&nbsp\;</FONT></DIV>
LOCATION:The Newburyport Five Cents Savings Bank
UID:e.1189.1696
SEQUENCE:3
DTSTAMP:20260420T072746Z
URL:https://business.newburyportchamber.org/events/details/economic-development-committee-meeting-04-06-2011-1696
END:VEVENT

END:VCALENDAR
