BEGIN:VCALENDAR
VERSION:2.0
PRODID:-//ChamberMaster//Event Calendar 2.0//EN
METHOD:PUBLISH
X-PUBLISHED-TTL:P3D
REFRESH-INTERVAL:P3D
CALSCALE:GREGORIAN
BEGIN:VEVENT
DTSTART:20111023T000000Z
DTEND:20111023T030000Z
X-MICROSOFT-CDO-ALLDAYEVENT:FALSE
SUMMARY:Don't Call Me Shirley @ Michael's Harborside
DESCRIPTION:Come out with your friends and join Don't Call Me Shirley upstairs at Michael's this Saturday night!\n\n\n\nFollow us on Facebook for all the latest events and happenings!\n\nhttp://www.facebook.com/MichaelsHarborside
X-ALT-DESC;FMTTYPE=text/html:Come out with your friends and join <em>Don&#39\;t Call Me Shirley</em> upstairs at Michael&#39\;s this Saturday night!<br />\n<br />\nFollow us on Facebook for all the latest events and happenings!<br />\nhttp://www.facebook.com/MichaelsHarborside
LOCATION:Michael's Harborside
UID:e.1189.2337
SEQUENCE:3
DTSTAMP:20260419T210744Z
URL:https://business.newburyportchamber.org/events/details/don-t-call-me-shirley-michael-s-harborside-10-22-2011-2337
END:VEVENT

END:VCALENDAR
