BEGIN:VCALENDAR
VERSION:2.0
PRODID:-//ChamberMaster//Event Calendar 2.0//EN
METHOD:PUBLISH
X-PUBLISHED-TTL:P3D
REFRESH-INTERVAL:P3D
CALSCALE:GREGORIAN
BEGIN:VEVENT
DTSTART:20111202T123000Z
DTEND:20111202T140000Z
X-MICROSOFT-CDO-ALLDAYEVENT:FALSE
SUMMARY:December Breakfast Series with Jeff Knight\, Head of Global Asset Allocation\, Putnam Investments
DESCRIPTION:Jeff Knight\, Head of Global Asset Allocation\, Putnam Investments\, will inform chamber members at this annual economic update from a global\, national and local perspective.
X-ALT-DESC;FMTTYPE=text/html:<p>\n	<span style="font-size: 14px"><span style="font-family: cambria\, serif">Jeff Knight\, </span><span style="font-family: cambria\, serif">Head of Global Asset Allocation\, Putnam Investments\, </span><span style="font-family: cambria\, serif">will inform chamber members at this annual economic update from a global\, national and local perspective.&nbsp\;</span></span><br />\n	&nbsp\;</p>\n
LOCATION:The Phoenix Room 19 Inn Street Newburyport\, MA
UID:e.1189.2375
SEQUENCE:3
DTSTAMP:20260419T174628Z
URL:https://business.newburyportchamber.org/events/details/december-breakfast-series-with-jeff-knight-head-of-global-asset-allocation-putnam-investments-12-02-2011-2375
END:VEVENT

END:VCALENDAR
