BEGIN:VCALENDAR
VERSION:2.0
PRODID:-//ChamberMaster//Event Calendar 2.0//EN
METHOD:PUBLISH
X-PUBLISHED-TTL:P3D
REFRESH-INTERVAL:P3D
CALSCALE:GREGORIAN
BEGIN:VEVENT
DTSTART:20111009T000000Z
DTEND:20111009T020000Z
X-MICROSOFT-CDO-ALLDAYEVENT:FALSE
SUMMARY:DD Martin at Firehouse Center for the Arts
DESCRIPTION:Hear DD Martin performing her versatile one-woman show at the Firehouse\, as she pays tribute to the many musical greats that have influenced her in the voice that critics call a blend of Tina Turner and Gladys Knight with a smidgen of Patti Labelle and Tina Braxton. As she easily moves from decade to decade\, she brings to life memorable hits from the 50s\, 60s 70s and 80s in all our favorite genres: rock and roll\, soul and blues. Experience her incredible talent and range as she pays a musical tribute to Sarah Vaughn\, Dinah Washington Billie Holiday and many more of the greats\, while she steps straight from the stage and into your heart!
X-ALT-DESC;FMTTYPE=text/html:Hear DD Martin performing her versatile one-woman show at the Firehouse\, as she pays tribute to the many musical greats that have influenced her in the voice that critics call a blend of Tina Turner and Gladys Knight with a smidgen of Patti Labelle and Tina Braxton. As she easily moves from decade to decade\, she brings to life memorable hits from the 50s\, 60s 70s and 80s in all our favorite genres: rock and roll\, soul and blues. Experience her incredible talent and range as she pays a musical tribute to Sarah Vaughn\, Dinah Washington Billie Holiday and many more of the greats\, while she steps straight from the stage and into your heart!
LOCATION:Firehouse Center for the Arts Market Square Newburyport MA 01950
UID:e.1189.2271
SEQUENCE:3
DTSTAMP:20260419T211518Z
URL:https://business.newburyportchamber.org/events/details/dd-martin-at-firehouse-center-for-the-arts-10-08-2011-2271
END:VEVENT

END:VCALENDAR
