BEGIN:VCALENDAR
VERSION:2.0
PRODID:-//ChamberMaster//Event Calendar 2.0//EN
METHOD:PUBLISH
X-PUBLISHED-TTL:P3D
REFRESH-INTERVAL:P3D
CALSCALE:GREGORIAN
BEGIN:VEVENT
DTSTART:20110820T180000Z
DTEND:20110820T200000Z
X-MICROSOFT-CDO-ALLDAYEVENT:FALSE
SUMMARY:Dane Vannatter Quintet
DESCRIPTION:see website   maudslayartscenter.org
X-ALT-DESC;FMTTYPE=text/html:see website&nbsp\;&nbsp\; maudslayartscenter.org
LOCATION:Newburyport Maudslay State Park 95 Curzon Mills Rd. Newburyport
UID:e.1189.1998
SEQUENCE:3
DTSTAMP:20260419T223523Z
URL:https://business.newburyportchamber.org/events/details/dane-vannatter-quintet-08-20-2011-1998
END:VEVENT

END:VCALENDAR
