BEGIN:VCALENDAR
VERSION:2.0
PRODID:-//ChamberMaster//Event Calendar 2.0//EN
METHOD:PUBLISH
X-PUBLISHED-TTL:P3D
REFRESH-INTERVAL:P3D
CALSCALE:GREGORIAN
BEGIN:VEVENT
DTSTART:20110923T230000Z
DTEND:20110924T020000Z
X-MICROSOFT-CDO-ALLDAYEVENT:FALSE
SUMMARY:Custom House Maritime Museum annual Patron's Gala
DESCRIPTION:Custom Maritime Museum announces an evening of "Intriguing Mystery" with its annual Patron's Gala\n\n\n\nThe Newburyport Maritime Society Board of Directors announce the annual benefit "The Patron's Gala" to be held on Friday September 23rd\, 2011\, 7-10 PM. The CHMM strives to host distinctive gatherings\, and this event will be no exception. Guests are invited to participate in an evening of "intriguing mystery" complete with a scavenger hunt through maritime history\, try their luck at the raffle or silent auction.\n\n\n\nLive music\, waterfront views\, superb delicacies and micro-brews are all some of the offerings this enjoyable gala has to offer. Tickets are $100 per person and $175 per couple. Corporate table sponsorships are available and publicity is offered for donors that are interested. Space is limited. Contact the museum for further information. www.customhousemaritimemuseum.org or (978) 462-8681.\n\n\n\nAbout the Custom Maritime Museum: The CHMM is located in the center of downtown Newburyport\, situated on 25 Water Street. The museum embodies the rich maritime legacy that was once the thriving industry of this coastal town. Established in 1968\, to "protect\, preserve\, and communicate the maritime heritage of the Merrimac Valley and its role in American History"\, the museum continues to develop programs\, diversify exhibits and broaden outreach initiatives. A unique setting for social gatherings\, the museum is a delight to maritime enthusiasts and newcomers alike. Visit www.chmm.org for more information. The CHMM is a 501 (c) 3 organization and all donations are tax deductable.
X-ALT-DESC;FMTTYPE=text/html:Custom Maritime Museum announces an evening of &ldquo\;Intriguing Mystery&rdquo\; with its annual Patron&rsquo\;s Gala<br />\n<br />\nThe Newburyport Maritime Society Board of Directors announce the annual benefit &ldquo\;The Patron&rsquo\;s Gala&rdquo\; to be held on Friday September 23rd\, 2011\, 7-10 PM. The CHMM strives to host distinctive gatherings\, and this event will be no exception. Guests are invited to participate in an evening of &ldquo\;intriguing mystery&rdquo\; complete with a scavenger hunt through maritime history\, try their luck at the raffle or silent auction.<br />\n<br />\nLive music\, waterfront views\, superb delicacies and micro-brews are all some of the offerings this enjoyable gala has to offer. Tickets are $100 per person and $175 per couple. Corporate table sponsorships are available and publicity is offered for donors that are interested. Space is limited. Contact the museum for further information. <a href="http://www.customhousemaritimemuseum.org">www.customhousemaritimemuseum.org</a> or (978) 462-8681.<br />\n<br />\nAbout the Custom Maritime Museum: The CHMM is located in the center of downtown Newburyport\, situated on 25 Water Street. The museum embodies the rich maritime legacy that was once the thriving industry of this coastal town. Established in 1968\, to &ldquo\;protect\, preserve\, and communicate the maritime heritage of the Merrimac Valley and its role in American History&rdquo\;\, the museum continues to develop programs\, diversify exhibits and broaden outreach initiatives. A unique setting for social gatherings\, the museum is a delight to maritime enthusiasts and newcomers alike. Visit www.chmm.org for more information. The CHMM is a 501 (c) 3 organization and all donations are tax deductable.<br />\n
LOCATION:Custom House Maritime Museum 25 Water Street Newburyport\, MA 01950
UID:e.1189.2197
SEQUENCE:3
DTSTAMP:20260419T211411Z
URL:https://business.newburyportchamber.org/events/details/custom-house-maritime-museum-annual-patron-s-gala-09-23-2011-2197
END:VEVENT

END:VCALENDAR
