BEGIN:VCALENDAR
VERSION:2.0
PRODID:-//ChamberMaster//Event Calendar 2.0//EN
METHOD:PUBLISH
X-PUBLISHED-TTL:P3D
REFRESH-INTERVAL:P3D
CALSCALE:GREGORIAN
BEGIN:VEVENT
DTSTART:20101216T050000Z
DTEND:20101216T050000Z
X-MICROSOFT-CDO-ALLDAYEVENT:FALSE
SUMMARY:Courtesy Connector Meeting - December
DESCRIPTION:NEW DAY THIS MONTH!Monthly meeting of the Courtesy Connector ambassador group.  9:00 AM - 10:30 AMPlease RSVP to Patty St. John at978-462-6680 x14
X-ALT-DESC;FMTTYPE=text/html:<DIV><P style="MARGIN: 0in 0in 0pt" class=MsoNormal><SPAN style="FONT-FAMILY: Calibri\; FONT-SIZE: 10pt"><FONT size=4><SPAN style="FONT-FAMILY: Calibri\; FONT-SIZE: 10pt"><FONT color=#ff0000 size=4><STRONG>NEW DAY THIS MONTH!</STRONG></FONT></SPAN></FONT></SPAN></P><P style="MARGIN: 0in 0in 0pt" class=MsoNormal><SPAN style="FONT-FAMILY: Calibri\; FONT-SIZE: 10pt"><FONT size=4><SPAN style="FONT-FAMILY: Calibri\; FONT-SIZE: 10pt"></SPAN>Monthly meeting of the Courtesy Connector ambassador&nbsp\;group. <?xml:namespace prefix = o ns = "urn:schemas-microsoft-com:office:office" /><o:p></o:p></FONT></SPAN></P><P style="MARGIN: 0in 0in 0pt" class=MsoNormal><SPAN style="FONT-FAMILY: Calibri\; FONT-SIZE: 10pt"><o:p><FONT size=4>&nbsp\;</FONT></o:p></SPAN></P><P style="MARGIN: 0in 0in 0pt" class=MsoNormal><?xml:namespace prefix = st1 ns = "urn:schemas-microsoft-com:office:smarttags" /><st1:time Hour="9" Minute="0"><SPAN style="FONT-FAMILY: Calibri\; FONT-SIZE: 10pt"><FONT size=4>9:00 AM - 10:30 AM</FONT></SPAN></st1:time></P><P style="MARGIN: 0in 0in 0pt" class=MsoNormal><st1:time Hour="9" Minute="0"><SPAN style="FONT-FAMILY: Calibri\; FONT-SIZE: 10pt"><FONT size=4>Please RSVP to Patty St. John at</FONT></SPAN></st1:time></P><P style="MARGIN: 0in 0in 0pt" class=MsoNormal><st1:time Hour="9" Minute="0"><SPAN style="FONT-FAMILY: Calibri\; FONT-SIZE: 10pt"><FONT size=4>978-462-6680 x14</FONT></SPAN></st1:time><SPAN style="FONT-SIZE: 10pt"><o:p></o:p></SPAN></P></DIV>
LOCATION:Newburyport Chamber Office
UID:e.1189.1634
SEQUENCE:3
DTSTAMP:20260420T124331Z
URL:https://business.newburyportchamber.org/events/details/courtesy-connector-meeting-december-12-16-2010-1634
END:VEVENT

END:VCALENDAR
